BEGIN:VCALENDAR
VERSION:2.0
PRODID:-//Governors Gun Club - ECPv6.15.20//NONSGML v1.0//EN
CALSCALE:GREGORIAN
METHOD:PUBLISH
X-ORIGINAL-URL:https://governorsgunclub.com
X-WR-CALDESC:Events for Governors Gun Club
REFRESH-INTERVAL;VALUE=DURATION:PT1H
X-Robots-Tag:noindex
X-PUBLISHED-TTL:PT1H
BEGIN:VTIMEZONE
TZID:UTC
BEGIN:STANDARD
TZOFFSETFROM:+0000
TZOFFSETTO:+0000
TZNAME:UTC
DTSTART:20270101T000000
END:STANDARD
END:VTIMEZONE
BEGIN:VEVENT
DTSTART;TZID=UTC:20280608T183000
DTEND;TZID=UTC:20280608T200000
DTSTAMP:20260424T090132
CREATED:20251231T213242Z
LAST-MODIFIED:20260120T173841Z
UID:10000670-1844101800-1844107200@governorsgunclub.com
SUMMARY:Bowling Pin Shoot
DESCRIPTION:Cost is $25 for non-members\, $10 for GGC Shooter or Platoon members\, and FREE from FMJ and High Brass Members. 22LR handguns only (we have some to rent if you don’t own one) Contact rburley@governorsgunclub.com if you have any questions!
URL:https://governorsgunclub.com/events/bowling-pin-shoot/2028-06-08/
LOCATION:Governors Gun Club Powder Springs\, 5740 C.H. James Parkway\, Powder Springs\, GA\, 30127\, United States
CATEGORIES:Handgun,Public
ATTACH;FMTTYPE=image/webp:https://governorsgunclub.com/wp-content/uploads/PSBowlingpin-shooting_TV.webp
END:VEVENT
BEGIN:VEVENT
DTSTART;TZID=UTC:20280615T183000
DTEND;TZID=UTC:20280615T200000
DTSTAMP:20260424T090132
CREATED:20251231T213242Z
LAST-MODIFIED:20260120T173841Z
UID:10000671-1844706600-1844712000@governorsgunclub.com
SUMMARY:Bowling Pin Shoot
DESCRIPTION:Cost is $25 for non-members\, $10 for GGC Shooter or Platoon members\, and FREE from FMJ and High Brass Members. 22LR handguns only (we have some to rent if you don’t own one) Contact rburley@governorsgunclub.com if you have any questions!
URL:https://governorsgunclub.com/events/bowling-pin-shoot/2028-06-15/
LOCATION:Governors Gun Club Powder Springs\, 5740 C.H. James Parkway\, Powder Springs\, GA\, 30127\, United States
CATEGORIES:Handgun,Public
ATTACH;FMTTYPE=image/webp:https://governorsgunclub.com/wp-content/uploads/PSBowlingpin-shooting_TV.webp
END:VEVENT
BEGIN:VEVENT
DTSTART;TZID=UTC:20280622T183000
DTEND;TZID=UTC:20280622T200000
DTSTAMP:20260424T090132
CREATED:20251231T213242Z
LAST-MODIFIED:20260120T173841Z
UID:10000672-1845311400-1845316800@governorsgunclub.com
SUMMARY:Bowling Pin Shoot
DESCRIPTION:Cost is $25 for non-members\, $10 for GGC Shooter or Platoon members\, and FREE from FMJ and High Brass Members. 22LR handguns only (we have some to rent if you don’t own one) Contact rburley@governorsgunclub.com if you have any questions!
URL:https://governorsgunclub.com/events/bowling-pin-shoot/2028-06-22/
LOCATION:Governors Gun Club Powder Springs\, 5740 C.H. James Parkway\, Powder Springs\, GA\, 30127\, United States
CATEGORIES:Handgun,Public
ATTACH;FMTTYPE=image/webp:https://governorsgunclub.com/wp-content/uploads/PSBowlingpin-shooting_TV.webp
END:VEVENT
BEGIN:VEVENT
DTSTART;TZID=UTC:20280629T183000
DTEND;TZID=UTC:20280629T200000
DTSTAMP:20260424T090132
CREATED:20251231T213242Z
LAST-MODIFIED:20260120T173841Z
UID:10000673-1845916200-1845921600@governorsgunclub.com
SUMMARY:Bowling Pin Shoot
DESCRIPTION:Cost is $25 for non-members\, $10 for GGC Shooter or Platoon members\, and FREE from FMJ and High Brass Members. 22LR handguns only (we have some to rent if you don’t own one) Contact rburley@governorsgunclub.com if you have any questions!
URL:https://governorsgunclub.com/events/bowling-pin-shoot/2028-06-29/
LOCATION:Governors Gun Club Powder Springs\, 5740 C.H. James Parkway\, Powder Springs\, GA\, 30127\, United States
CATEGORIES:Handgun,Public
ATTACH;FMTTYPE=image/webp:https://governorsgunclub.com/wp-content/uploads/PSBowlingpin-shooting_TV.webp
END:VEVENT
BEGIN:VEVENT
DTSTART;TZID=UTC:20280706T183000
DTEND;TZID=UTC:20280706T200000
DTSTAMP:20260424T090132
CREATED:20251231T213242Z
LAST-MODIFIED:20260120T173841Z
UID:10000674-1846521000-1846526400@governorsgunclub.com
SUMMARY:Bowling Pin Shoot
DESCRIPTION:Cost is $25 for non-members\, $10 for GGC Shooter or Platoon members\, and FREE from FMJ and High Brass Members. 22LR handguns only (we have some to rent if you don’t own one) Contact rburley@governorsgunclub.com if you have any questions!
URL:https://governorsgunclub.com/events/bowling-pin-shoot/2028-07-06/
LOCATION:Governors Gun Club Powder Springs\, 5740 C.H. James Parkway\, Powder Springs\, GA\, 30127\, United States
CATEGORIES:Handgun,Public
ATTACH;FMTTYPE=image/webp:https://governorsgunclub.com/wp-content/uploads/PSBowlingpin-shooting_TV.webp
END:VEVENT
BEGIN:VEVENT
DTSTART;TZID=UTC:20280713T183000
DTEND;TZID=UTC:20280713T200000
DTSTAMP:20260424T090132
CREATED:20251231T213242Z
LAST-MODIFIED:20260120T173841Z
UID:10000675-1847125800-1847131200@governorsgunclub.com
SUMMARY:Bowling Pin Shoot
DESCRIPTION:Cost is $25 for non-members\, $10 for GGC Shooter or Platoon members\, and FREE from FMJ and High Brass Members. 22LR handguns only (we have some to rent if you don’t own one) Contact rburley@governorsgunclub.com if you have any questions!
URL:https://governorsgunclub.com/events/bowling-pin-shoot/2028-07-13/
LOCATION:Governors Gun Club Powder Springs\, 5740 C.H. James Parkway\, Powder Springs\, GA\, 30127\, United States
CATEGORIES:Handgun,Public
ATTACH;FMTTYPE=image/webp:https://governorsgunclub.com/wp-content/uploads/PSBowlingpin-shooting_TV.webp
END:VEVENT
BEGIN:VEVENT
DTSTART;TZID=UTC:20280720T183000
DTEND;TZID=UTC:20280720T200000
DTSTAMP:20260424T090132
CREATED:20251231T213242Z
LAST-MODIFIED:20260120T173841Z
UID:10000676-1847730600-1847736000@governorsgunclub.com
SUMMARY:Bowling Pin Shoot
DESCRIPTION:Cost is $25 for non-members\, $10 for GGC Shooter or Platoon members\, and FREE from FMJ and High Brass Members. 22LR handguns only (we have some to rent if you don’t own one) Contact rburley@governorsgunclub.com if you have any questions!
URL:https://governorsgunclub.com/events/bowling-pin-shoot/2028-07-20/
LOCATION:Governors Gun Club Powder Springs\, 5740 C.H. James Parkway\, Powder Springs\, GA\, 30127\, United States
CATEGORIES:Handgun,Public
ATTACH;FMTTYPE=image/webp:https://governorsgunclub.com/wp-content/uploads/PSBowlingpin-shooting_TV.webp
END:VEVENT
BEGIN:VEVENT
DTSTART;TZID=UTC:20280727T183000
DTEND;TZID=UTC:20280727T200000
DTSTAMP:20260424T090132
CREATED:20251231T213242Z
LAST-MODIFIED:20260120T173841Z
UID:10000677-1848335400-1848340800@governorsgunclub.com
SUMMARY:Bowling Pin Shoot
DESCRIPTION:Cost is $25 for non-members\, $10 for GGC Shooter or Platoon members\, and FREE from FMJ and High Brass Members. 22LR handguns only (we have some to rent if you don’t own one) Contact rburley@governorsgunclub.com if you have any questions!
URL:https://governorsgunclub.com/events/bowling-pin-shoot/2028-07-27/
LOCATION:Governors Gun Club Powder Springs\, 5740 C.H. James Parkway\, Powder Springs\, GA\, 30127\, United States
CATEGORIES:Handgun,Public
ATTACH;FMTTYPE=image/webp:https://governorsgunclub.com/wp-content/uploads/PSBowlingpin-shooting_TV.webp
END:VEVENT
BEGIN:VEVENT
DTSTART;TZID=UTC:20280803T183000
DTEND;TZID=UTC:20280803T200000
DTSTAMP:20260424T090132
CREATED:20251231T213242Z
LAST-MODIFIED:20260120T173841Z
UID:10000678-1848940200-1848945600@governorsgunclub.com
SUMMARY:Bowling Pin Shoot
DESCRIPTION:Cost is $25 for non-members\, $10 for GGC Shooter or Platoon members\, and FREE from FMJ and High Brass Members. 22LR handguns only (we have some to rent if you don’t own one) Contact rburley@governorsgunclub.com if you have any questions!
URL:https://governorsgunclub.com/events/bowling-pin-shoot/2028-08-03/
LOCATION:Governors Gun Club Powder Springs\, 5740 C.H. James Parkway\, Powder Springs\, GA\, 30127\, United States
CATEGORIES:Handgun,Public
ATTACH;FMTTYPE=image/webp:https://governorsgunclub.com/wp-content/uploads/PSBowlingpin-shooting_TV.webp
END:VEVENT
BEGIN:VEVENT
DTSTART;TZID=UTC:20280810T183000
DTEND;TZID=UTC:20280810T200000
DTSTAMP:20260424T090132
CREATED:20251231T213242Z
LAST-MODIFIED:20260120T173841Z
UID:10000679-1849545000-1849550400@governorsgunclub.com
SUMMARY:Bowling Pin Shoot
DESCRIPTION:Cost is $25 for non-members\, $10 for GGC Shooter or Platoon members\, and FREE from FMJ and High Brass Members. 22LR handguns only (we have some to rent if you don’t own one) Contact rburley@governorsgunclub.com if you have any questions!
URL:https://governorsgunclub.com/events/bowling-pin-shoot/2028-08-10/
LOCATION:Governors Gun Club Powder Springs\, 5740 C.H. James Parkway\, Powder Springs\, GA\, 30127\, United States
CATEGORIES:Handgun,Public
ATTACH;FMTTYPE=image/webp:https://governorsgunclub.com/wp-content/uploads/PSBowlingpin-shooting_TV.webp
END:VEVENT
BEGIN:VEVENT
DTSTART;TZID=UTC:20280817T183000
DTEND;TZID=UTC:20280817T200000
DTSTAMP:20260424T090132
CREATED:20251231T213242Z
LAST-MODIFIED:20260120T173841Z
UID:10000680-1850149800-1850155200@governorsgunclub.com
SUMMARY:Bowling Pin Shoot
DESCRIPTION:Cost is $25 for non-members\, $10 for GGC Shooter or Platoon members\, and FREE from FMJ and High Brass Members. 22LR handguns only (we have some to rent if you don’t own one) Contact rburley@governorsgunclub.com if you have any questions!
URL:https://governorsgunclub.com/events/bowling-pin-shoot/2028-08-17/
LOCATION:Governors Gun Club Powder Springs\, 5740 C.H. James Parkway\, Powder Springs\, GA\, 30127\, United States
CATEGORIES:Handgun,Public
ATTACH;FMTTYPE=image/webp:https://governorsgunclub.com/wp-content/uploads/PSBowlingpin-shooting_TV.webp
END:VEVENT
BEGIN:VEVENT
DTSTART;TZID=UTC:20280824T183000
DTEND;TZID=UTC:20280824T200000
DTSTAMP:20260424T090132
CREATED:20251231T213242Z
LAST-MODIFIED:20260120T173841Z
UID:10000681-1850754600-1850760000@governorsgunclub.com
SUMMARY:Bowling Pin Shoot
DESCRIPTION:Cost is $25 for non-members\, $10 for GGC Shooter or Platoon members\, and FREE from FMJ and High Brass Members. 22LR handguns only (we have some to rent if you don’t own one) Contact rburley@governorsgunclub.com if you have any questions!
URL:https://governorsgunclub.com/events/bowling-pin-shoot/2028-08-24/
LOCATION:Governors Gun Club Powder Springs\, 5740 C.H. James Parkway\, Powder Springs\, GA\, 30127\, United States
CATEGORIES:Handgun,Public
ATTACH;FMTTYPE=image/webp:https://governorsgunclub.com/wp-content/uploads/PSBowlingpin-shooting_TV.webp
END:VEVENT
BEGIN:VEVENT
DTSTART;TZID=UTC:20280831T183000
DTEND;TZID=UTC:20280831T200000
DTSTAMP:20260424T090132
CREATED:20251231T213242Z
LAST-MODIFIED:20260120T173841Z
UID:10000682-1851359400-1851364800@governorsgunclub.com
SUMMARY:Bowling Pin Shoot
DESCRIPTION:Cost is $25 for non-members\, $10 for GGC Shooter or Platoon members\, and FREE from FMJ and High Brass Members. 22LR handguns only (we have some to rent if you don’t own one) Contact rburley@governorsgunclub.com if you have any questions!
URL:https://governorsgunclub.com/events/bowling-pin-shoot/2028-08-31/
LOCATION:Governors Gun Club Powder Springs\, 5740 C.H. James Parkway\, Powder Springs\, GA\, 30127\, United States
CATEGORIES:Handgun,Public
ATTACH;FMTTYPE=image/webp:https://governorsgunclub.com/wp-content/uploads/PSBowlingpin-shooting_TV.webp
END:VEVENT
BEGIN:VEVENT
DTSTART;TZID=UTC:20280907T183000
DTEND;TZID=UTC:20280907T200000
DTSTAMP:20260424T090132
CREATED:20251231T213242Z
LAST-MODIFIED:20260120T173841Z
UID:10000683-1851964200-1851969600@governorsgunclub.com
SUMMARY:Bowling Pin Shoot
DESCRIPTION:Cost is $25 for non-members\, $10 for GGC Shooter or Platoon members\, and FREE from FMJ and High Brass Members. 22LR handguns only (we have some to rent if you don’t own one) Contact rburley@governorsgunclub.com if you have any questions!
URL:https://governorsgunclub.com/events/bowling-pin-shoot/2028-09-07/
LOCATION:Governors Gun Club Powder Springs\, 5740 C.H. James Parkway\, Powder Springs\, GA\, 30127\, United States
CATEGORIES:Handgun,Public
ATTACH;FMTTYPE=image/webp:https://governorsgunclub.com/wp-content/uploads/PSBowlingpin-shooting_TV.webp
END:VEVENT
BEGIN:VEVENT
DTSTART;TZID=UTC:20280914T183000
DTEND;TZID=UTC:20280914T200000
DTSTAMP:20260424T090132
CREATED:20251231T213242Z
LAST-MODIFIED:20260120T173841Z
UID:10000684-1852569000-1852574400@governorsgunclub.com
SUMMARY:Bowling Pin Shoot
DESCRIPTION:Cost is $25 for non-members\, $10 for GGC Shooter or Platoon members\, and FREE from FMJ and High Brass Members. 22LR handguns only (we have some to rent if you don’t own one) Contact rburley@governorsgunclub.com if you have any questions!
URL:https://governorsgunclub.com/events/bowling-pin-shoot/2028-09-14/
LOCATION:Governors Gun Club Powder Springs\, 5740 C.H. James Parkway\, Powder Springs\, GA\, 30127\, United States
CATEGORIES:Handgun,Public
ATTACH;FMTTYPE=image/webp:https://governorsgunclub.com/wp-content/uploads/PSBowlingpin-shooting_TV.webp
END:VEVENT
BEGIN:VEVENT
DTSTART;TZID=UTC:20280921T183000
DTEND;TZID=UTC:20280921T200000
DTSTAMP:20260424T090132
CREATED:20251231T213242Z
LAST-MODIFIED:20260120T173841Z
UID:10000685-1853173800-1853179200@governorsgunclub.com
SUMMARY:Bowling Pin Shoot
DESCRIPTION:Cost is $25 for non-members\, $10 for GGC Shooter or Platoon members\, and FREE from FMJ and High Brass Members. 22LR handguns only (we have some to rent if you don’t own one) Contact rburley@governorsgunclub.com if you have any questions!
URL:https://governorsgunclub.com/events/bowling-pin-shoot/2028-09-21/
LOCATION:Governors Gun Club Powder Springs\, 5740 C.H. James Parkway\, Powder Springs\, GA\, 30127\, United States
CATEGORIES:Handgun,Public
ATTACH;FMTTYPE=image/webp:https://governorsgunclub.com/wp-content/uploads/PSBowlingpin-shooting_TV.webp
END:VEVENT
BEGIN:VEVENT
DTSTART;TZID=UTC:20280928T183000
DTEND;TZID=UTC:20280928T200000
DTSTAMP:20260424T090132
CREATED:20251231T213242Z
LAST-MODIFIED:20260120T173841Z
UID:10000686-1853778600-1853784000@governorsgunclub.com
SUMMARY:Bowling Pin Shoot
DESCRIPTION:Cost is $25 for non-members\, $10 for GGC Shooter or Platoon members\, and FREE from FMJ and High Brass Members. 22LR handguns only (we have some to rent if you don’t own one) Contact rburley@governorsgunclub.com if you have any questions!
URL:https://governorsgunclub.com/events/bowling-pin-shoot/2028-09-28/
LOCATION:Governors Gun Club Powder Springs\, 5740 C.H. James Parkway\, Powder Springs\, GA\, 30127\, United States
CATEGORIES:Handgun,Public
ATTACH;FMTTYPE=image/webp:https://governorsgunclub.com/wp-content/uploads/PSBowlingpin-shooting_TV.webp
END:VEVENT
BEGIN:VEVENT
DTSTART;TZID=UTC:20281005T183000
DTEND;TZID=UTC:20281005T200000
DTSTAMP:20260424T090132
CREATED:20251231T213242Z
LAST-MODIFIED:20260120T173841Z
UID:10000687-1854383400-1854388800@governorsgunclub.com
SUMMARY:Bowling Pin Shoot
DESCRIPTION:Cost is $25 for non-members\, $10 for GGC Shooter or Platoon members\, and FREE from FMJ and High Brass Members. 22LR handguns only (we have some to rent if you don’t own one) Contact rburley@governorsgunclub.com if you have any questions!
URL:https://governorsgunclub.com/events/bowling-pin-shoot/2028-10-05/
LOCATION:Governors Gun Club Powder Springs\, 5740 C.H. James Parkway\, Powder Springs\, GA\, 30127\, United States
CATEGORIES:Handgun,Public
ATTACH;FMTTYPE=image/webp:https://governorsgunclub.com/wp-content/uploads/PSBowlingpin-shooting_TV.webp
END:VEVENT
BEGIN:VEVENT
DTSTART;TZID=UTC:20281012T183000
DTEND;TZID=UTC:20281012T200000
DTSTAMP:20260424T090132
CREATED:20251231T213242Z
LAST-MODIFIED:20260120T173841Z
UID:10000688-1854988200-1854993600@governorsgunclub.com
SUMMARY:Bowling Pin Shoot
DESCRIPTION:Cost is $25 for non-members\, $10 for GGC Shooter or Platoon members\, and FREE from FMJ and High Brass Members. 22LR handguns only (we have some to rent if you don’t own one) Contact rburley@governorsgunclub.com if you have any questions!
URL:https://governorsgunclub.com/events/bowling-pin-shoot/2028-10-12/
LOCATION:Governors Gun Club Powder Springs\, 5740 C.H. James Parkway\, Powder Springs\, GA\, 30127\, United States
CATEGORIES:Handgun,Public
ATTACH;FMTTYPE=image/webp:https://governorsgunclub.com/wp-content/uploads/PSBowlingpin-shooting_TV.webp
END:VEVENT
BEGIN:VEVENT
DTSTART;TZID=UTC:20281019T183000
DTEND;TZID=UTC:20281019T200000
DTSTAMP:20260424T090132
CREATED:20251231T213242Z
LAST-MODIFIED:20260120T173841Z
UID:10000689-1855593000-1855598400@governorsgunclub.com
SUMMARY:Bowling Pin Shoot
DESCRIPTION:Cost is $25 for non-members\, $10 for GGC Shooter or Platoon members\, and FREE from FMJ and High Brass Members. 22LR handguns only (we have some to rent if you don’t own one) Contact rburley@governorsgunclub.com if you have any questions!
URL:https://governorsgunclub.com/events/bowling-pin-shoot/2028-10-19/
LOCATION:Governors Gun Club Powder Springs\, 5740 C.H. James Parkway\, Powder Springs\, GA\, 30127\, United States
CATEGORIES:Handgun,Public
ATTACH;FMTTYPE=image/webp:https://governorsgunclub.com/wp-content/uploads/PSBowlingpin-shooting_TV.webp
END:VEVENT
BEGIN:VEVENT
DTSTART;TZID=UTC:20281026T183000
DTEND;TZID=UTC:20281026T200000
DTSTAMP:20260424T090132
CREATED:20251231T213242Z
LAST-MODIFIED:20260120T173841Z
UID:10000690-1856197800-1856203200@governorsgunclub.com
SUMMARY:Bowling Pin Shoot
DESCRIPTION:Cost is $25 for non-members\, $10 for GGC Shooter or Platoon members\, and FREE from FMJ and High Brass Members. 22LR handguns only (we have some to rent if you don’t own one) Contact rburley@governorsgunclub.com if you have any questions!
URL:https://governorsgunclub.com/events/bowling-pin-shoot/2028-10-26/
LOCATION:Governors Gun Club Powder Springs\, 5740 C.H. James Parkway\, Powder Springs\, GA\, 30127\, United States
CATEGORIES:Handgun,Public
ATTACH;FMTTYPE=image/webp:https://governorsgunclub.com/wp-content/uploads/PSBowlingpin-shooting_TV.webp
END:VEVENT
BEGIN:VEVENT
DTSTART;TZID=UTC:20281102T183000
DTEND;TZID=UTC:20281102T200000
DTSTAMP:20260424T090132
CREATED:20251231T213242Z
LAST-MODIFIED:20260120T173841Z
UID:10000691-1856802600-1856808000@governorsgunclub.com
SUMMARY:Bowling Pin Shoot
DESCRIPTION:Cost is $25 for non-members\, $10 for GGC Shooter or Platoon members\, and FREE from FMJ and High Brass Members. 22LR handguns only (we have some to rent if you don’t own one) Contact rburley@governorsgunclub.com if you have any questions!
URL:https://governorsgunclub.com/events/bowling-pin-shoot/2028-11-02/
LOCATION:Governors Gun Club Powder Springs\, 5740 C.H. James Parkway\, Powder Springs\, GA\, 30127\, United States
CATEGORIES:Handgun,Public
ATTACH;FMTTYPE=image/webp:https://governorsgunclub.com/wp-content/uploads/PSBowlingpin-shooting_TV.webp
END:VEVENT
BEGIN:VEVENT
DTSTART;TZID=UTC:20281109T183000
DTEND;TZID=UTC:20281109T200000
DTSTAMP:20260424T090132
CREATED:20251231T213242Z
LAST-MODIFIED:20260120T173841Z
UID:10000692-1857407400-1857412800@governorsgunclub.com
SUMMARY:Bowling Pin Shoot
DESCRIPTION:Cost is $25 for non-members\, $10 for GGC Shooter or Platoon members\, and FREE from FMJ and High Brass Members. 22LR handguns only (we have some to rent if you don’t own one) Contact rburley@governorsgunclub.com if you have any questions!
URL:https://governorsgunclub.com/events/bowling-pin-shoot/2028-11-09/
LOCATION:Governors Gun Club Powder Springs\, 5740 C.H. James Parkway\, Powder Springs\, GA\, 30127\, United States
CATEGORIES:Handgun,Public
ATTACH;FMTTYPE=image/webp:https://governorsgunclub.com/wp-content/uploads/PSBowlingpin-shooting_TV.webp
END:VEVENT
BEGIN:VEVENT
DTSTART;TZID=UTC:20281116T183000
DTEND;TZID=UTC:20281116T200000
DTSTAMP:20260424T090132
CREATED:20251231T213242Z
LAST-MODIFIED:20260120T173841Z
UID:10000693-1858012200-1858017600@governorsgunclub.com
SUMMARY:Bowling Pin Shoot
DESCRIPTION:Cost is $25 for non-members\, $10 for GGC Shooter or Platoon members\, and FREE from FMJ and High Brass Members. 22LR handguns only (we have some to rent if you don’t own one) Contact rburley@governorsgunclub.com if you have any questions!
URL:https://governorsgunclub.com/events/bowling-pin-shoot/2028-11-16/
LOCATION:Governors Gun Club Powder Springs\, 5740 C.H. James Parkway\, Powder Springs\, GA\, 30127\, United States
CATEGORIES:Handgun,Public
ATTACH;FMTTYPE=image/webp:https://governorsgunclub.com/wp-content/uploads/PSBowlingpin-shooting_TV.webp
END:VEVENT
BEGIN:VEVENT
DTSTART;TZID=UTC:20281123T183000
DTEND;TZID=UTC:20281123T200000
DTSTAMP:20260424T090132
CREATED:20251231T213242Z
LAST-MODIFIED:20260120T173841Z
UID:10000694-1858617000-1858622400@governorsgunclub.com
SUMMARY:Bowling Pin Shoot
DESCRIPTION:Cost is $25 for non-members\, $10 for GGC Shooter or Platoon members\, and FREE from FMJ and High Brass Members. 22LR handguns only (we have some to rent if you don’t own one) Contact rburley@governorsgunclub.com if you have any questions!
URL:https://governorsgunclub.com/events/bowling-pin-shoot/2028-11-23/
LOCATION:Governors Gun Club Powder Springs\, 5740 C.H. James Parkway\, Powder Springs\, GA\, 30127\, United States
CATEGORIES:Handgun,Public
ATTACH;FMTTYPE=image/webp:https://governorsgunclub.com/wp-content/uploads/PSBowlingpin-shooting_TV.webp
END:VEVENT
BEGIN:VEVENT
DTSTART;TZID=UTC:20281130T183000
DTEND;TZID=UTC:20281130T200000
DTSTAMP:20260424T090132
CREATED:20251231T213242Z
LAST-MODIFIED:20260120T173841Z
UID:10000695-1859221800-1859227200@governorsgunclub.com
SUMMARY:Bowling Pin Shoot
DESCRIPTION:Cost is $25 for non-members\, $10 for GGC Shooter or Platoon members\, and FREE from FMJ and High Brass Members. 22LR handguns only (we have some to rent if you don’t own one) Contact rburley@governorsgunclub.com if you have any questions!
URL:https://governorsgunclub.com/events/bowling-pin-shoot/2028-11-30/
LOCATION:Governors Gun Club Powder Springs\, 5740 C.H. James Parkway\, Powder Springs\, GA\, 30127\, United States
CATEGORIES:Handgun,Public
ATTACH;FMTTYPE=image/webp:https://governorsgunclub.com/wp-content/uploads/PSBowlingpin-shooting_TV.webp
END:VEVENT
BEGIN:VEVENT
DTSTART;TZID=UTC:20281207T183000
DTEND;TZID=UTC:20281207T200000
DTSTAMP:20260424T090132
CREATED:20251231T213242Z
LAST-MODIFIED:20260120T173841Z
UID:10000696-1859826600-1859832000@governorsgunclub.com
SUMMARY:Bowling Pin Shoot
DESCRIPTION:Cost is $25 for non-members\, $10 for GGC Shooter or Platoon members\, and FREE from FMJ and High Brass Members. 22LR handguns only (we have some to rent if you don’t own one) Contact rburley@governorsgunclub.com if you have any questions!
URL:https://governorsgunclub.com/events/bowling-pin-shoot/2028-12-07/
LOCATION:Governors Gun Club Powder Springs\, 5740 C.H. James Parkway\, Powder Springs\, GA\, 30127\, United States
CATEGORIES:Handgun,Public
ATTACH;FMTTYPE=image/webp:https://governorsgunclub.com/wp-content/uploads/PSBowlingpin-shooting_TV.webp
END:VEVENT
BEGIN:VEVENT
DTSTART;TZID=UTC:20281214T183000
DTEND;TZID=UTC:20281214T200000
DTSTAMP:20260424T090132
CREATED:20251231T213242Z
LAST-MODIFIED:20260120T173841Z
UID:10000697-1860431400-1860436800@governorsgunclub.com
SUMMARY:Bowling Pin Shoot
DESCRIPTION:Cost is $25 for non-members\, $10 for GGC Shooter or Platoon members\, and FREE from FMJ and High Brass Members. 22LR handguns only (we have some to rent if you don’t own one) Contact rburley@governorsgunclub.com if you have any questions!
URL:https://governorsgunclub.com/events/bowling-pin-shoot/2028-12-14/
LOCATION:Governors Gun Club Powder Springs\, 5740 C.H. James Parkway\, Powder Springs\, GA\, 30127\, United States
CATEGORIES:Handgun,Public
ATTACH;FMTTYPE=image/webp:https://governorsgunclub.com/wp-content/uploads/PSBowlingpin-shooting_TV.webp
END:VEVENT
BEGIN:VEVENT
DTSTART;TZID=UTC:20281221T183000
DTEND;TZID=UTC:20281221T200000
DTSTAMP:20260424T090132
CREATED:20251231T213242Z
LAST-MODIFIED:20260120T173841Z
UID:10000698-1861036200-1861041600@governorsgunclub.com
SUMMARY:Bowling Pin Shoot
DESCRIPTION:Cost is $25 for non-members\, $10 for GGC Shooter or Platoon members\, and FREE from FMJ and High Brass Members. 22LR handguns only (we have some to rent if you don’t own one) Contact rburley@governorsgunclub.com if you have any questions!
URL:https://governorsgunclub.com/events/bowling-pin-shoot/2028-12-21/
LOCATION:Governors Gun Club Powder Springs\, 5740 C.H. James Parkway\, Powder Springs\, GA\, 30127\, United States
CATEGORIES:Handgun,Public
ATTACH;FMTTYPE=image/webp:https://governorsgunclub.com/wp-content/uploads/PSBowlingpin-shooting_TV.webp
END:VEVENT
BEGIN:VEVENT
DTSTART;TZID=UTC:20281228T183000
DTEND;TZID=UTC:20281228T200000
DTSTAMP:20260424T090132
CREATED:20251231T213242Z
LAST-MODIFIED:20260120T173841Z
UID:10000699-1861641000-1861646400@governorsgunclub.com
SUMMARY:Bowling Pin Shoot
DESCRIPTION:Cost is $25 for non-members\, $10 for GGC Shooter or Platoon members\, and FREE from FMJ and High Brass Members. 22LR handguns only (we have some to rent if you don’t own one) Contact rburley@governorsgunclub.com if you have any questions!
URL:https://governorsgunclub.com/events/bowling-pin-shoot/2028-12-28/
LOCATION:Governors Gun Club Powder Springs\, 5740 C.H. James Parkway\, Powder Springs\, GA\, 30127\, United States
CATEGORIES:Handgun,Public
ATTACH;FMTTYPE=image/webp:https://governorsgunclub.com/wp-content/uploads/PSBowlingpin-shooting_TV.webp
END:VEVENT
END:VCALENDAR