BEGIN:VCALENDAR
VERSION:2.0
PRODID:-//Governors Gun Club - ECPv6.15.20//NONSGML v1.0//EN
CALSCALE:GREGORIAN
METHOD:PUBLISH
X-ORIGINAL-URL:https://governorsgunclub.com
X-WR-CALDESC:Events for Governors Gun Club
REFRESH-INTERVAL;VALUE=DURATION:PT1H
X-Robots-Tag:noindex
X-PUBLISHED-TTL:PT1H
BEGIN:VTIMEZONE
TZID:UTC
BEGIN:STANDARD
TZOFFSETFROM:+0000
TZOFFSETTO:+0000
TZNAME:UTC
DTSTART:20280101T000000
END:STANDARD
END:VTIMEZONE
BEGIN:VEVENT
DTSTART;TZID=UTC:20290104T183000
DTEND;TZID=UTC:20290104T200000
DTSTAMP:20260424T131807
CREATED:20251231T213242Z
LAST-MODIFIED:20260120T173841Z
UID:10000700-1862245800-1862251200@governorsgunclub.com
SUMMARY:Bowling Pin Shoot
DESCRIPTION:Cost is $25 for non-members\, $10 for GGC Shooter or Platoon members\, and FREE from FMJ and High Brass Members. 22LR handguns only (we have some to rent if you don’t own one) Contact rburley@governorsgunclub.com if you have any questions!
URL:https://governorsgunclub.com/events/bowling-pin-shoot/2029-01-04/
LOCATION:Governors Gun Club Powder Springs\, 5740 C.H. James Parkway\, Powder Springs\, GA\, 30127\, United States
CATEGORIES:Handgun,Public
ATTACH;FMTTYPE=image/webp:https://governorsgunclub.com/wp-content/uploads/PSBowlingpin-shooting_TV.webp
END:VEVENT
BEGIN:VEVENT
DTSTART;TZID=UTC:20290111T183000
DTEND;TZID=UTC:20290111T200000
DTSTAMP:20260424T131807
CREATED:20251231T213242Z
LAST-MODIFIED:20260120T173841Z
UID:10000701-1862850600-1862856000@governorsgunclub.com
SUMMARY:Bowling Pin Shoot
DESCRIPTION:Cost is $25 for non-members\, $10 for GGC Shooter or Platoon members\, and FREE from FMJ and High Brass Members. 22LR handguns only (we have some to rent if you don’t own one) Contact rburley@governorsgunclub.com if you have any questions!
URL:https://governorsgunclub.com/events/bowling-pin-shoot/2029-01-11/
LOCATION:Governors Gun Club Powder Springs\, 5740 C.H. James Parkway\, Powder Springs\, GA\, 30127\, United States
CATEGORIES:Handgun,Public
ATTACH;FMTTYPE=image/webp:https://governorsgunclub.com/wp-content/uploads/PSBowlingpin-shooting_TV.webp
END:VEVENT
BEGIN:VEVENT
DTSTART;TZID=UTC:20290118T183000
DTEND;TZID=UTC:20290118T200000
DTSTAMP:20260424T131807
CREATED:20251231T213242Z
LAST-MODIFIED:20260120T173841Z
UID:10000702-1863455400-1863460800@governorsgunclub.com
SUMMARY:Bowling Pin Shoot
DESCRIPTION:Cost is $25 for non-members\, $10 for GGC Shooter or Platoon members\, and FREE from FMJ and High Brass Members. 22LR handguns only (we have some to rent if you don’t own one) Contact rburley@governorsgunclub.com if you have any questions!
URL:https://governorsgunclub.com/events/bowling-pin-shoot/2029-01-18/
LOCATION:Governors Gun Club Powder Springs\, 5740 C.H. James Parkway\, Powder Springs\, GA\, 30127\, United States
CATEGORIES:Handgun,Public
ATTACH;FMTTYPE=image/webp:https://governorsgunclub.com/wp-content/uploads/PSBowlingpin-shooting_TV.webp
END:VEVENT
BEGIN:VEVENT
DTSTART;TZID=UTC:20290125T183000
DTEND;TZID=UTC:20290125T200000
DTSTAMP:20260424T131807
CREATED:20251231T213242Z
LAST-MODIFIED:20260120T173841Z
UID:10000703-1864060200-1864065600@governorsgunclub.com
SUMMARY:Bowling Pin Shoot
DESCRIPTION:Cost is $25 for non-members\, $10 for GGC Shooter or Platoon members\, and FREE from FMJ and High Brass Members. 22LR handguns only (we have some to rent if you don’t own one) Contact rburley@governorsgunclub.com if you have any questions!
URL:https://governorsgunclub.com/events/bowling-pin-shoot/2029-01-25/
LOCATION:Governors Gun Club Powder Springs\, 5740 C.H. James Parkway\, Powder Springs\, GA\, 30127\, United States
CATEGORIES:Handgun,Public
ATTACH;FMTTYPE=image/webp:https://governorsgunclub.com/wp-content/uploads/PSBowlingpin-shooting_TV.webp
END:VEVENT
BEGIN:VEVENT
DTSTART;TZID=UTC:20290201T183000
DTEND;TZID=UTC:20290201T200000
DTSTAMP:20260424T131807
CREATED:20251231T213242Z
LAST-MODIFIED:20260120T173841Z
UID:10000704-1864665000-1864670400@governorsgunclub.com
SUMMARY:Bowling Pin Shoot
DESCRIPTION:Cost is $25 for non-members\, $10 for GGC Shooter or Platoon members\, and FREE from FMJ and High Brass Members. 22LR handguns only (we have some to rent if you don’t own one) Contact rburley@governorsgunclub.com if you have any questions!
URL:https://governorsgunclub.com/events/bowling-pin-shoot/2029-02-01/
LOCATION:Governors Gun Club Powder Springs\, 5740 C.H. James Parkway\, Powder Springs\, GA\, 30127\, United States
CATEGORIES:Handgun,Public
ATTACH;FMTTYPE=image/webp:https://governorsgunclub.com/wp-content/uploads/PSBowlingpin-shooting_TV.webp
END:VEVENT
BEGIN:VEVENT
DTSTART;TZID=UTC:20290208T183000
DTEND;TZID=UTC:20290208T200000
DTSTAMP:20260424T131807
CREATED:20251231T213242Z
LAST-MODIFIED:20260120T173841Z
UID:10000705-1865269800-1865275200@governorsgunclub.com
SUMMARY:Bowling Pin Shoot
DESCRIPTION:Cost is $25 for non-members\, $10 for GGC Shooter or Platoon members\, and FREE from FMJ and High Brass Members. 22LR handguns only (we have some to rent if you don’t own one) Contact rburley@governorsgunclub.com if you have any questions!
URL:https://governorsgunclub.com/events/bowling-pin-shoot/2029-02-08/
LOCATION:Governors Gun Club Powder Springs\, 5740 C.H. James Parkway\, Powder Springs\, GA\, 30127\, United States
CATEGORIES:Handgun,Public
ATTACH;FMTTYPE=image/webp:https://governorsgunclub.com/wp-content/uploads/PSBowlingpin-shooting_TV.webp
END:VEVENT
BEGIN:VEVENT
DTSTART;TZID=UTC:20290215T183000
DTEND;TZID=UTC:20290215T200000
DTSTAMP:20260424T131807
CREATED:20251231T213242Z
LAST-MODIFIED:20260120T173841Z
UID:10000706-1865874600-1865880000@governorsgunclub.com
SUMMARY:Bowling Pin Shoot
DESCRIPTION:Cost is $25 for non-members\, $10 for GGC Shooter or Platoon members\, and FREE from FMJ and High Brass Members. 22LR handguns only (we have some to rent if you don’t own one) Contact rburley@governorsgunclub.com if you have any questions!
URL:https://governorsgunclub.com/events/bowling-pin-shoot/2029-02-15/
LOCATION:Governors Gun Club Powder Springs\, 5740 C.H. James Parkway\, Powder Springs\, GA\, 30127\, United States
CATEGORIES:Handgun,Public
ATTACH;FMTTYPE=image/webp:https://governorsgunclub.com/wp-content/uploads/PSBowlingpin-shooting_TV.webp
END:VEVENT
BEGIN:VEVENT
DTSTART;TZID=UTC:20290222T183000
DTEND;TZID=UTC:20290222T200000
DTSTAMP:20260424T131807
CREATED:20251231T213242Z
LAST-MODIFIED:20260120T173841Z
UID:10000707-1866479400-1866484800@governorsgunclub.com
SUMMARY:Bowling Pin Shoot
DESCRIPTION:Cost is $25 for non-members\, $10 for GGC Shooter or Platoon members\, and FREE from FMJ and High Brass Members. 22LR handguns only (we have some to rent if you don’t own one) Contact rburley@governorsgunclub.com if you have any questions!
URL:https://governorsgunclub.com/events/bowling-pin-shoot/2029-02-22/
LOCATION:Governors Gun Club Powder Springs\, 5740 C.H. James Parkway\, Powder Springs\, GA\, 30127\, United States
CATEGORIES:Handgun,Public
ATTACH;FMTTYPE=image/webp:https://governorsgunclub.com/wp-content/uploads/PSBowlingpin-shooting_TV.webp
END:VEVENT
BEGIN:VEVENT
DTSTART;TZID=UTC:20290301T183000
DTEND;TZID=UTC:20290301T200000
DTSTAMP:20260424T131807
CREATED:20251231T213242Z
LAST-MODIFIED:20260120T173841Z
UID:10000708-1867084200-1867089600@governorsgunclub.com
SUMMARY:Bowling Pin Shoot
DESCRIPTION:Cost is $25 for non-members\, $10 for GGC Shooter or Platoon members\, and FREE from FMJ and High Brass Members. 22LR handguns only (we have some to rent if you don’t own one) Contact rburley@governorsgunclub.com if you have any questions!
URL:https://governorsgunclub.com/events/bowling-pin-shoot/2029-03-01/
LOCATION:Governors Gun Club Powder Springs\, 5740 C.H. James Parkway\, Powder Springs\, GA\, 30127\, United States
CATEGORIES:Handgun,Public
ATTACH;FMTTYPE=image/webp:https://governorsgunclub.com/wp-content/uploads/PSBowlingpin-shooting_TV.webp
END:VEVENT
BEGIN:VEVENT
DTSTART;TZID=UTC:20290308T183000
DTEND;TZID=UTC:20290308T200000
DTSTAMP:20260424T131807
CREATED:20251231T213242Z
LAST-MODIFIED:20260120T173841Z
UID:10000709-1867689000-1867694400@governorsgunclub.com
SUMMARY:Bowling Pin Shoot
DESCRIPTION:Cost is $25 for non-members\, $10 for GGC Shooter or Platoon members\, and FREE from FMJ and High Brass Members. 22LR handguns only (we have some to rent if you don’t own one) Contact rburley@governorsgunclub.com if you have any questions!
URL:https://governorsgunclub.com/events/bowling-pin-shoot/2029-03-08/
LOCATION:Governors Gun Club Powder Springs\, 5740 C.H. James Parkway\, Powder Springs\, GA\, 30127\, United States
CATEGORIES:Handgun,Public
ATTACH;FMTTYPE=image/webp:https://governorsgunclub.com/wp-content/uploads/PSBowlingpin-shooting_TV.webp
END:VEVENT
BEGIN:VEVENT
DTSTART;TZID=UTC:20290315T183000
DTEND;TZID=UTC:20290315T200000
DTSTAMP:20260424T131807
CREATED:20251231T213242Z
LAST-MODIFIED:20260120T173841Z
UID:10000710-1868293800-1868299200@governorsgunclub.com
SUMMARY:Bowling Pin Shoot
DESCRIPTION:Cost is $25 for non-members\, $10 for GGC Shooter or Platoon members\, and FREE from FMJ and High Brass Members. 22LR handguns only (we have some to rent if you don’t own one) Contact rburley@governorsgunclub.com if you have any questions!
URL:https://governorsgunclub.com/events/bowling-pin-shoot/2029-03-15/
LOCATION:Governors Gun Club Powder Springs\, 5740 C.H. James Parkway\, Powder Springs\, GA\, 30127\, United States
CATEGORIES:Handgun,Public
ATTACH;FMTTYPE=image/webp:https://governorsgunclub.com/wp-content/uploads/PSBowlingpin-shooting_TV.webp
END:VEVENT
BEGIN:VEVENT
DTSTART;TZID=UTC:20290322T183000
DTEND;TZID=UTC:20290322T200000
DTSTAMP:20260424T131807
CREATED:20251231T213242Z
LAST-MODIFIED:20260120T173841Z
UID:10000711-1868898600-1868904000@governorsgunclub.com
SUMMARY:Bowling Pin Shoot
DESCRIPTION:Cost is $25 for non-members\, $10 for GGC Shooter or Platoon members\, and FREE from FMJ and High Brass Members. 22LR handguns only (we have some to rent if you don’t own one) Contact rburley@governorsgunclub.com if you have any questions!
URL:https://governorsgunclub.com/events/bowling-pin-shoot/2029-03-22/
LOCATION:Governors Gun Club Powder Springs\, 5740 C.H. James Parkway\, Powder Springs\, GA\, 30127\, United States
CATEGORIES:Handgun,Public
ATTACH;FMTTYPE=image/webp:https://governorsgunclub.com/wp-content/uploads/PSBowlingpin-shooting_TV.webp
END:VEVENT
BEGIN:VEVENT
DTSTART;TZID=UTC:20290329T183000
DTEND;TZID=UTC:20290329T200000
DTSTAMP:20260424T131807
CREATED:20251231T213242Z
LAST-MODIFIED:20260120T173841Z
UID:10000712-1869503400-1869508800@governorsgunclub.com
SUMMARY:Bowling Pin Shoot
DESCRIPTION:Cost is $25 for non-members\, $10 for GGC Shooter or Platoon members\, and FREE from FMJ and High Brass Members. 22LR handguns only (we have some to rent if you don’t own one) Contact rburley@governorsgunclub.com if you have any questions!
URL:https://governorsgunclub.com/events/bowling-pin-shoot/2029-03-29/
LOCATION:Governors Gun Club Powder Springs\, 5740 C.H. James Parkway\, Powder Springs\, GA\, 30127\, United States
CATEGORIES:Handgun,Public
ATTACH;FMTTYPE=image/webp:https://governorsgunclub.com/wp-content/uploads/PSBowlingpin-shooting_TV.webp
END:VEVENT
BEGIN:VEVENT
DTSTART;TZID=UTC:20290405T183000
DTEND;TZID=UTC:20290405T200000
DTSTAMP:20260424T131807
CREATED:20251231T213242Z
LAST-MODIFIED:20260120T173841Z
UID:10000713-1870108200-1870113600@governorsgunclub.com
SUMMARY:Bowling Pin Shoot
DESCRIPTION:Cost is $25 for non-members\, $10 for GGC Shooter or Platoon members\, and FREE from FMJ and High Brass Members. 22LR handguns only (we have some to rent if you don’t own one) Contact rburley@governorsgunclub.com if you have any questions!
URL:https://governorsgunclub.com/events/bowling-pin-shoot/2029-04-05/
LOCATION:Governors Gun Club Powder Springs\, 5740 C.H. James Parkway\, Powder Springs\, GA\, 30127\, United States
CATEGORIES:Handgun,Public
ATTACH;FMTTYPE=image/webp:https://governorsgunclub.com/wp-content/uploads/PSBowlingpin-shooting_TV.webp
END:VEVENT
BEGIN:VEVENT
DTSTART;TZID=UTC:20290412T183000
DTEND;TZID=UTC:20290412T200000
DTSTAMP:20260424T131807
CREATED:20251231T213242Z
LAST-MODIFIED:20260120T173841Z
UID:10000714-1870713000-1870718400@governorsgunclub.com
SUMMARY:Bowling Pin Shoot
DESCRIPTION:Cost is $25 for non-members\, $10 for GGC Shooter or Platoon members\, and FREE from FMJ and High Brass Members. 22LR handguns only (we have some to rent if you don’t own one) Contact rburley@governorsgunclub.com if you have any questions!
URL:https://governorsgunclub.com/events/bowling-pin-shoot/2029-04-12/
LOCATION:Governors Gun Club Powder Springs\, 5740 C.H. James Parkway\, Powder Springs\, GA\, 30127\, United States
CATEGORIES:Handgun,Public
ATTACH;FMTTYPE=image/webp:https://governorsgunclub.com/wp-content/uploads/PSBowlingpin-shooting_TV.webp
END:VEVENT
BEGIN:VEVENT
DTSTART;TZID=UTC:20290419T183000
DTEND;TZID=UTC:20290419T200000
DTSTAMP:20260424T131807
CREATED:20251231T213242Z
LAST-MODIFIED:20260120T173841Z
UID:10000715-1871317800-1871323200@governorsgunclub.com
SUMMARY:Bowling Pin Shoot
DESCRIPTION:Cost is $25 for non-members\, $10 for GGC Shooter or Platoon members\, and FREE from FMJ and High Brass Members. 22LR handguns only (we have some to rent if you don’t own one) Contact rburley@governorsgunclub.com if you have any questions!
URL:https://governorsgunclub.com/events/bowling-pin-shoot/2029-04-19/
LOCATION:Governors Gun Club Powder Springs\, 5740 C.H. James Parkway\, Powder Springs\, GA\, 30127\, United States
CATEGORIES:Handgun,Public
ATTACH;FMTTYPE=image/webp:https://governorsgunclub.com/wp-content/uploads/PSBowlingpin-shooting_TV.webp
END:VEVENT
BEGIN:VEVENT
DTSTART;TZID=UTC:20290426T183000
DTEND;TZID=UTC:20290426T200000
DTSTAMP:20260424T131807
CREATED:20251231T213242Z
LAST-MODIFIED:20260120T173841Z
UID:10000716-1871922600-1871928000@governorsgunclub.com
SUMMARY:Bowling Pin Shoot
DESCRIPTION:Cost is $25 for non-members\, $10 for GGC Shooter or Platoon members\, and FREE from FMJ and High Brass Members. 22LR handguns only (we have some to rent if you don’t own one) Contact rburley@governorsgunclub.com if you have any questions!
URL:https://governorsgunclub.com/events/bowling-pin-shoot/2029-04-26/
LOCATION:Governors Gun Club Powder Springs\, 5740 C.H. James Parkway\, Powder Springs\, GA\, 30127\, United States
CATEGORIES:Handgun,Public
ATTACH;FMTTYPE=image/webp:https://governorsgunclub.com/wp-content/uploads/PSBowlingpin-shooting_TV.webp
END:VEVENT
BEGIN:VEVENT
DTSTART;TZID=UTC:20290503T183000
DTEND;TZID=UTC:20290503T200000
DTSTAMP:20260424T131807
CREATED:20251231T213242Z
LAST-MODIFIED:20260120T173841Z
UID:10000717-1872527400-1872532800@governorsgunclub.com
SUMMARY:Bowling Pin Shoot
DESCRIPTION:Cost is $25 for non-members\, $10 for GGC Shooter or Platoon members\, and FREE from FMJ and High Brass Members. 22LR handguns only (we have some to rent if you don’t own one) Contact rburley@governorsgunclub.com if you have any questions!
URL:https://governorsgunclub.com/events/bowling-pin-shoot/2029-05-03/
LOCATION:Governors Gun Club Powder Springs\, 5740 C.H. James Parkway\, Powder Springs\, GA\, 30127\, United States
CATEGORIES:Handgun,Public
ATTACH;FMTTYPE=image/webp:https://governorsgunclub.com/wp-content/uploads/PSBowlingpin-shooting_TV.webp
END:VEVENT
BEGIN:VEVENT
DTSTART;TZID=UTC:20290510T183000
DTEND;TZID=UTC:20290510T200000
DTSTAMP:20260424T131807
CREATED:20251231T213242Z
LAST-MODIFIED:20260120T173841Z
UID:10000718-1873132200-1873137600@governorsgunclub.com
SUMMARY:Bowling Pin Shoot
DESCRIPTION:Cost is $25 for non-members\, $10 for GGC Shooter or Platoon members\, and FREE from FMJ and High Brass Members. 22LR handguns only (we have some to rent if you don’t own one) Contact rburley@governorsgunclub.com if you have any questions!
URL:https://governorsgunclub.com/events/bowling-pin-shoot/2029-05-10/
LOCATION:Governors Gun Club Powder Springs\, 5740 C.H. James Parkway\, Powder Springs\, GA\, 30127\, United States
CATEGORIES:Handgun,Public
ATTACH;FMTTYPE=image/webp:https://governorsgunclub.com/wp-content/uploads/PSBowlingpin-shooting_TV.webp
END:VEVENT
BEGIN:VEVENT
DTSTART;TZID=UTC:20290517T183000
DTEND;TZID=UTC:20290517T200000
DTSTAMP:20260424T131807
CREATED:20251231T213242Z
LAST-MODIFIED:20260120T173841Z
UID:10000719-1873737000-1873742400@governorsgunclub.com
SUMMARY:Bowling Pin Shoot
DESCRIPTION:Cost is $25 for non-members\, $10 for GGC Shooter or Platoon members\, and FREE from FMJ and High Brass Members. 22LR handguns only (we have some to rent if you don’t own one) Contact rburley@governorsgunclub.com if you have any questions!
URL:https://governorsgunclub.com/events/bowling-pin-shoot/2029-05-17/
LOCATION:Governors Gun Club Powder Springs\, 5740 C.H. James Parkway\, Powder Springs\, GA\, 30127\, United States
CATEGORIES:Handgun,Public
ATTACH;FMTTYPE=image/webp:https://governorsgunclub.com/wp-content/uploads/PSBowlingpin-shooting_TV.webp
END:VEVENT
BEGIN:VEVENT
DTSTART;TZID=UTC:20290524T183000
DTEND;TZID=UTC:20290524T200000
DTSTAMP:20260424T131807
CREATED:20251231T213242Z
LAST-MODIFIED:20260120T173841Z
UID:10000720-1874341800-1874347200@governorsgunclub.com
SUMMARY:Bowling Pin Shoot
DESCRIPTION:Cost is $25 for non-members\, $10 for GGC Shooter or Platoon members\, and FREE from FMJ and High Brass Members. 22LR handguns only (we have some to rent if you don’t own one) Contact rburley@governorsgunclub.com if you have any questions!
URL:https://governorsgunclub.com/events/bowling-pin-shoot/2029-05-24/
LOCATION:Governors Gun Club Powder Springs\, 5740 C.H. James Parkway\, Powder Springs\, GA\, 30127\, United States
CATEGORIES:Handgun,Public
ATTACH;FMTTYPE=image/webp:https://governorsgunclub.com/wp-content/uploads/PSBowlingpin-shooting_TV.webp
END:VEVENT
BEGIN:VEVENT
DTSTART;TZID=UTC:20290531T183000
DTEND;TZID=UTC:20290531T200000
DTSTAMP:20260424T131807
CREATED:20251231T213242Z
LAST-MODIFIED:20260120T173841Z
UID:10000721-1874946600-1874952000@governorsgunclub.com
SUMMARY:Bowling Pin Shoot
DESCRIPTION:Cost is $25 for non-members\, $10 for GGC Shooter or Platoon members\, and FREE from FMJ and High Brass Members. 22LR handguns only (we have some to rent if you don’t own one) Contact rburley@governorsgunclub.com if you have any questions!
URL:https://governorsgunclub.com/events/bowling-pin-shoot/2029-05-31/
LOCATION:Governors Gun Club Powder Springs\, 5740 C.H. James Parkway\, Powder Springs\, GA\, 30127\, United States
CATEGORIES:Handgun,Public
ATTACH;FMTTYPE=image/webp:https://governorsgunclub.com/wp-content/uploads/PSBowlingpin-shooting_TV.webp
END:VEVENT
BEGIN:VEVENT
DTSTART;TZID=UTC:20290607T183000
DTEND;TZID=UTC:20290607T200000
DTSTAMP:20260424T131807
CREATED:20251231T213242Z
LAST-MODIFIED:20260120T173841Z
UID:10000722-1875551400-1875556800@governorsgunclub.com
SUMMARY:Bowling Pin Shoot
DESCRIPTION:Cost is $25 for non-members\, $10 for GGC Shooter or Platoon members\, and FREE from FMJ and High Brass Members. 22LR handguns only (we have some to rent if you don’t own one) Contact rburley@governorsgunclub.com if you have any questions!
URL:https://governorsgunclub.com/events/bowling-pin-shoot/2029-06-07/
LOCATION:Governors Gun Club Powder Springs\, 5740 C.H. James Parkway\, Powder Springs\, GA\, 30127\, United States
CATEGORIES:Handgun,Public
ATTACH;FMTTYPE=image/webp:https://governorsgunclub.com/wp-content/uploads/PSBowlingpin-shooting_TV.webp
END:VEVENT
BEGIN:VEVENT
DTSTART;TZID=UTC:20290614T183000
DTEND;TZID=UTC:20290614T200000
DTSTAMP:20260424T131807
CREATED:20251231T213242Z
LAST-MODIFIED:20260120T173841Z
UID:10000723-1876156200-1876161600@governorsgunclub.com
SUMMARY:Bowling Pin Shoot
DESCRIPTION:Cost is $25 for non-members\, $10 for GGC Shooter or Platoon members\, and FREE from FMJ and High Brass Members. 22LR handguns only (we have some to rent if you don’t own one) Contact rburley@governorsgunclub.com if you have any questions!
URL:https://governorsgunclub.com/events/bowling-pin-shoot/2029-06-14/
LOCATION:Governors Gun Club Powder Springs\, 5740 C.H. James Parkway\, Powder Springs\, GA\, 30127\, United States
CATEGORIES:Handgun,Public
ATTACH;FMTTYPE=image/webp:https://governorsgunclub.com/wp-content/uploads/PSBowlingpin-shooting_TV.webp
END:VEVENT
BEGIN:VEVENT
DTSTART;TZID=UTC:20290621T183000
DTEND;TZID=UTC:20290621T200000
DTSTAMP:20260424T131807
CREATED:20251231T213242Z
LAST-MODIFIED:20260120T173841Z
UID:10000724-1876761000-1876766400@governorsgunclub.com
SUMMARY:Bowling Pin Shoot
DESCRIPTION:Cost is $25 for non-members\, $10 for GGC Shooter or Platoon members\, and FREE from FMJ and High Brass Members. 22LR handguns only (we have some to rent if you don’t own one) Contact rburley@governorsgunclub.com if you have any questions!
URL:https://governorsgunclub.com/events/bowling-pin-shoot/2029-06-21/
LOCATION:Governors Gun Club Powder Springs\, 5740 C.H. James Parkway\, Powder Springs\, GA\, 30127\, United States
CATEGORIES:Handgun,Public
ATTACH;FMTTYPE=image/webp:https://governorsgunclub.com/wp-content/uploads/PSBowlingpin-shooting_TV.webp
END:VEVENT
BEGIN:VEVENT
DTSTART;TZID=UTC:20290628T183000
DTEND;TZID=UTC:20290628T200000
DTSTAMP:20260424T131807
CREATED:20251231T213242Z
LAST-MODIFIED:20260120T173841Z
UID:10000725-1877365800-1877371200@governorsgunclub.com
SUMMARY:Bowling Pin Shoot
DESCRIPTION:Cost is $25 for non-members\, $10 for GGC Shooter or Platoon members\, and FREE from FMJ and High Brass Members. 22LR handguns only (we have some to rent if you don’t own one) Contact rburley@governorsgunclub.com if you have any questions!
URL:https://governorsgunclub.com/events/bowling-pin-shoot/2029-06-28/
LOCATION:Governors Gun Club Powder Springs\, 5740 C.H. James Parkway\, Powder Springs\, GA\, 30127\, United States
CATEGORIES:Handgun,Public
ATTACH;FMTTYPE=image/webp:https://governorsgunclub.com/wp-content/uploads/PSBowlingpin-shooting_TV.webp
END:VEVENT
BEGIN:VEVENT
DTSTART;TZID=UTC:20290705T183000
DTEND;TZID=UTC:20290705T200000
DTSTAMP:20260424T131807
CREATED:20251231T213242Z
LAST-MODIFIED:20260120T173841Z
UID:10000726-1877970600-1877976000@governorsgunclub.com
SUMMARY:Bowling Pin Shoot
DESCRIPTION:Cost is $25 for non-members\, $10 for GGC Shooter or Platoon members\, and FREE from FMJ and High Brass Members. 22LR handguns only (we have some to rent if you don’t own one) Contact rburley@governorsgunclub.com if you have any questions!
URL:https://governorsgunclub.com/events/bowling-pin-shoot/2029-07-05/
LOCATION:Governors Gun Club Powder Springs\, 5740 C.H. James Parkway\, Powder Springs\, GA\, 30127\, United States
CATEGORIES:Handgun,Public
ATTACH;FMTTYPE=image/webp:https://governorsgunclub.com/wp-content/uploads/PSBowlingpin-shooting_TV.webp
END:VEVENT
BEGIN:VEVENT
DTSTART;TZID=UTC:20290712T183000
DTEND;TZID=UTC:20290712T200000
DTSTAMP:20260424T131807
CREATED:20251231T213242Z
LAST-MODIFIED:20260120T173841Z
UID:10000727-1878575400-1878580800@governorsgunclub.com
SUMMARY:Bowling Pin Shoot
DESCRIPTION:Cost is $25 for non-members\, $10 for GGC Shooter or Platoon members\, and FREE from FMJ and High Brass Members. 22LR handguns only (we have some to rent if you don’t own one) Contact rburley@governorsgunclub.com if you have any questions!
URL:https://governorsgunclub.com/events/bowling-pin-shoot/2029-07-12/
LOCATION:Governors Gun Club Powder Springs\, 5740 C.H. James Parkway\, Powder Springs\, GA\, 30127\, United States
CATEGORIES:Handgun,Public
ATTACH;FMTTYPE=image/webp:https://governorsgunclub.com/wp-content/uploads/PSBowlingpin-shooting_TV.webp
END:VEVENT
BEGIN:VEVENT
DTSTART;TZID=UTC:20290719T183000
DTEND;TZID=UTC:20290719T200000
DTSTAMP:20260424T131807
CREATED:20251231T213242Z
LAST-MODIFIED:20260120T173841Z
UID:10000728-1879180200-1879185600@governorsgunclub.com
SUMMARY:Bowling Pin Shoot
DESCRIPTION:Cost is $25 for non-members\, $10 for GGC Shooter or Platoon members\, and FREE from FMJ and High Brass Members. 22LR handguns only (we have some to rent if you don’t own one) Contact rburley@governorsgunclub.com if you have any questions!
URL:https://governorsgunclub.com/events/bowling-pin-shoot/2029-07-19/
LOCATION:Governors Gun Club Powder Springs\, 5740 C.H. James Parkway\, Powder Springs\, GA\, 30127\, United States
CATEGORIES:Handgun,Public
ATTACH;FMTTYPE=image/webp:https://governorsgunclub.com/wp-content/uploads/PSBowlingpin-shooting_TV.webp
END:VEVENT
BEGIN:VEVENT
DTSTART;TZID=UTC:20290726T183000
DTEND;TZID=UTC:20290726T200000
DTSTAMP:20260424T131807
CREATED:20251231T213242Z
LAST-MODIFIED:20260120T173841Z
UID:10000729-1879785000-1879790400@governorsgunclub.com
SUMMARY:Bowling Pin Shoot
DESCRIPTION:Cost is $25 for non-members\, $10 for GGC Shooter or Platoon members\, and FREE from FMJ and High Brass Members. 22LR handguns only (we have some to rent if you don’t own one) Contact rburley@governorsgunclub.com if you have any questions!
URL:https://governorsgunclub.com/events/bowling-pin-shoot/2029-07-26/
LOCATION:Governors Gun Club Powder Springs\, 5740 C.H. James Parkway\, Powder Springs\, GA\, 30127\, United States
CATEGORIES:Handgun,Public
ATTACH;FMTTYPE=image/webp:https://governorsgunclub.com/wp-content/uploads/PSBowlingpin-shooting_TV.webp
END:VEVENT
END:VCALENDAR