BEGIN:VCALENDAR
VERSION:2.0
PRODID:-//Governors Gun Club - ECPv6.15.20//NONSGML v1.0//EN
CALSCALE:GREGORIAN
METHOD:PUBLISH
X-WR-CALNAME:Governors Gun Club
X-ORIGINAL-URL:https://governorsgunclub.com
X-WR-CALDESC:Events for Governors Gun Club
REFRESH-INTERVAL;VALUE=DURATION:PT1H
X-Robots-Tag:noindex
X-PUBLISHED-TTL:PT1H
BEGIN:VTIMEZONE
TZID:UTC
BEGIN:STANDARD
TZOFFSETFROM:+0000
TZOFFSETTO:+0000
TZNAME:UTC
DTSTART:20280101T000000
END:STANDARD
END:VTIMEZONE
BEGIN:VEVENT
DTSTART;TZID=UTC:20290802T183000
DTEND;TZID=UTC:20290802T200000
DTSTAMP:20260424T180523
CREATED:20251231T213242Z
LAST-MODIFIED:20260120T173841Z
UID:10000730-1880389800-1880395200@governorsgunclub.com
SUMMARY:Bowling Pin Shoot
DESCRIPTION:Cost is $25 for non-members\, $10 for GGC Shooter or Platoon members\, and FREE from FMJ and High Brass Members. 22LR handguns only (we have some to rent if you don’t own one) Contact rburley@governorsgunclub.com if you have any questions!
URL:https://governorsgunclub.com/events/bowling-pin-shoot/2029-08-02/
LOCATION:Governors Gun Club Powder Springs\, 5740 C.H. James Parkway\, Powder Springs\, GA\, 30127\, United States
CATEGORIES:Handgun,Public
ATTACH;FMTTYPE=image/webp:https://governorsgunclub.com/wp-content/uploads/PSBowlingpin-shooting_TV.webp
END:VEVENT
BEGIN:VEVENT
DTSTART;TZID=UTC:20290809T183000
DTEND;TZID=UTC:20290809T200000
DTSTAMP:20260424T180523
CREATED:20251231T213242Z
LAST-MODIFIED:20260120T173841Z
UID:10000731-1880994600-1881000000@governorsgunclub.com
SUMMARY:Bowling Pin Shoot
DESCRIPTION:Cost is $25 for non-members\, $10 for GGC Shooter or Platoon members\, and FREE from FMJ and High Brass Members. 22LR handguns only (we have some to rent if you don’t own one) Contact rburley@governorsgunclub.com if you have any questions!
URL:https://governorsgunclub.com/events/bowling-pin-shoot/2029-08-09/
LOCATION:Governors Gun Club Powder Springs\, 5740 C.H. James Parkway\, Powder Springs\, GA\, 30127\, United States
CATEGORIES:Handgun,Public
ATTACH;FMTTYPE=image/webp:https://governorsgunclub.com/wp-content/uploads/PSBowlingpin-shooting_TV.webp
END:VEVENT
BEGIN:VEVENT
DTSTART;TZID=UTC:20290816T183000
DTEND;TZID=UTC:20290816T200000
DTSTAMP:20260424T180523
CREATED:20251231T213242Z
LAST-MODIFIED:20260120T173841Z
UID:10000732-1881599400-1881604800@governorsgunclub.com
SUMMARY:Bowling Pin Shoot
DESCRIPTION:Cost is $25 for non-members\, $10 for GGC Shooter or Platoon members\, and FREE from FMJ and High Brass Members. 22LR handguns only (we have some to rent if you don’t own one) Contact rburley@governorsgunclub.com if you have any questions!
URL:https://governorsgunclub.com/events/bowling-pin-shoot/2029-08-16/
LOCATION:Governors Gun Club Powder Springs\, 5740 C.H. James Parkway\, Powder Springs\, GA\, 30127\, United States
CATEGORIES:Handgun,Public
ATTACH;FMTTYPE=image/webp:https://governorsgunclub.com/wp-content/uploads/PSBowlingpin-shooting_TV.webp
END:VEVENT
BEGIN:VEVENT
DTSTART;TZID=UTC:20290823T183000
DTEND;TZID=UTC:20290823T200000
DTSTAMP:20260424T180523
CREATED:20251231T213242Z
LAST-MODIFIED:20260120T173841Z
UID:10000733-1882204200-1882209600@governorsgunclub.com
SUMMARY:Bowling Pin Shoot
DESCRIPTION:Cost is $25 for non-members\, $10 for GGC Shooter or Platoon members\, and FREE from FMJ and High Brass Members. 22LR handguns only (we have some to rent if you don’t own one) Contact rburley@governorsgunclub.com if you have any questions!
URL:https://governorsgunclub.com/events/bowling-pin-shoot/2029-08-23/
LOCATION:Governors Gun Club Powder Springs\, 5740 C.H. James Parkway\, Powder Springs\, GA\, 30127\, United States
CATEGORIES:Handgun,Public
ATTACH;FMTTYPE=image/webp:https://governorsgunclub.com/wp-content/uploads/PSBowlingpin-shooting_TV.webp
END:VEVENT
BEGIN:VEVENT
DTSTART;TZID=UTC:20290830T183000
DTEND;TZID=UTC:20290830T200000
DTSTAMP:20260424T180523
CREATED:20251231T213242Z
LAST-MODIFIED:20260120T173841Z
UID:10000734-1882809000-1882814400@governorsgunclub.com
SUMMARY:Bowling Pin Shoot
DESCRIPTION:Cost is $25 for non-members\, $10 for GGC Shooter or Platoon members\, and FREE from FMJ and High Brass Members. 22LR handguns only (we have some to rent if you don’t own one) Contact rburley@governorsgunclub.com if you have any questions!
URL:https://governorsgunclub.com/events/bowling-pin-shoot/2029-08-30/
LOCATION:Governors Gun Club Powder Springs\, 5740 C.H. James Parkway\, Powder Springs\, GA\, 30127\, United States
CATEGORIES:Handgun,Public
ATTACH;FMTTYPE=image/webp:https://governorsgunclub.com/wp-content/uploads/PSBowlingpin-shooting_TV.webp
END:VEVENT
BEGIN:VEVENT
DTSTART;TZID=UTC:20290906T183000
DTEND;TZID=UTC:20290906T200000
DTSTAMP:20260424T180523
CREATED:20251231T213242Z
LAST-MODIFIED:20260120T173841Z
UID:10000735-1883413800-1883419200@governorsgunclub.com
SUMMARY:Bowling Pin Shoot
DESCRIPTION:Cost is $25 for non-members\, $10 for GGC Shooter or Platoon members\, and FREE from FMJ and High Brass Members. 22LR handguns only (we have some to rent if you don’t own one) Contact rburley@governorsgunclub.com if you have any questions!
URL:https://governorsgunclub.com/events/bowling-pin-shoot/2029-09-06/
LOCATION:Governors Gun Club Powder Springs\, 5740 C.H. James Parkway\, Powder Springs\, GA\, 30127\, United States
CATEGORIES:Handgun,Public
ATTACH;FMTTYPE=image/webp:https://governorsgunclub.com/wp-content/uploads/PSBowlingpin-shooting_TV.webp
END:VEVENT
BEGIN:VEVENT
DTSTART;TZID=UTC:20290913T183000
DTEND;TZID=UTC:20290913T200000
DTSTAMP:20260424T180523
CREATED:20251231T213242Z
LAST-MODIFIED:20260120T173841Z
UID:10000736-1884018600-1884024000@governorsgunclub.com
SUMMARY:Bowling Pin Shoot
DESCRIPTION:Cost is $25 for non-members\, $10 for GGC Shooter or Platoon members\, and FREE from FMJ and High Brass Members. 22LR handguns only (we have some to rent if you don’t own one) Contact rburley@governorsgunclub.com if you have any questions!
URL:https://governorsgunclub.com/events/bowling-pin-shoot/2029-09-13/
LOCATION:Governors Gun Club Powder Springs\, 5740 C.H. James Parkway\, Powder Springs\, GA\, 30127\, United States
CATEGORIES:Handgun,Public
ATTACH;FMTTYPE=image/webp:https://governorsgunclub.com/wp-content/uploads/PSBowlingpin-shooting_TV.webp
END:VEVENT
BEGIN:VEVENT
DTSTART;TZID=UTC:20290920T183000
DTEND;TZID=UTC:20290920T200000
DTSTAMP:20260424T180523
CREATED:20251231T213242Z
LAST-MODIFIED:20260120T173841Z
UID:10000737-1884623400-1884628800@governorsgunclub.com
SUMMARY:Bowling Pin Shoot
DESCRIPTION:Cost is $25 for non-members\, $10 for GGC Shooter or Platoon members\, and FREE from FMJ and High Brass Members. 22LR handguns only (we have some to rent if you don’t own one) Contact rburley@governorsgunclub.com if you have any questions!
URL:https://governorsgunclub.com/events/bowling-pin-shoot/2029-09-20/
LOCATION:Governors Gun Club Powder Springs\, 5740 C.H. James Parkway\, Powder Springs\, GA\, 30127\, United States
CATEGORIES:Handgun,Public
ATTACH;FMTTYPE=image/webp:https://governorsgunclub.com/wp-content/uploads/PSBowlingpin-shooting_TV.webp
END:VEVENT
BEGIN:VEVENT
DTSTART;TZID=UTC:20290927T183000
DTEND;TZID=UTC:20290927T200000
DTSTAMP:20260424T180523
CREATED:20251231T213242Z
LAST-MODIFIED:20260120T173841Z
UID:10000738-1885228200-1885233600@governorsgunclub.com
SUMMARY:Bowling Pin Shoot
DESCRIPTION:Cost is $25 for non-members\, $10 for GGC Shooter or Platoon members\, and FREE from FMJ and High Brass Members. 22LR handguns only (we have some to rent if you don’t own one) Contact rburley@governorsgunclub.com if you have any questions!
URL:https://governorsgunclub.com/events/bowling-pin-shoot/2029-09-27/
LOCATION:Governors Gun Club Powder Springs\, 5740 C.H. James Parkway\, Powder Springs\, GA\, 30127\, United States
CATEGORIES:Handgun,Public
ATTACH;FMTTYPE=image/webp:https://governorsgunclub.com/wp-content/uploads/PSBowlingpin-shooting_TV.webp
END:VEVENT
BEGIN:VEVENT
DTSTART;TZID=UTC:20291004T183000
DTEND;TZID=UTC:20291004T200000
DTSTAMP:20260424T180523
CREATED:20251231T213242Z
LAST-MODIFIED:20260120T173841Z
UID:10000739-1885833000-1885838400@governorsgunclub.com
SUMMARY:Bowling Pin Shoot
DESCRIPTION:Cost is $25 for non-members\, $10 for GGC Shooter or Platoon members\, and FREE from FMJ and High Brass Members. 22LR handguns only (we have some to rent if you don’t own one) Contact rburley@governorsgunclub.com if you have any questions!
URL:https://governorsgunclub.com/events/bowling-pin-shoot/2029-10-04/
LOCATION:Governors Gun Club Powder Springs\, 5740 C.H. James Parkway\, Powder Springs\, GA\, 30127\, United States
CATEGORIES:Handgun,Public
ATTACH;FMTTYPE=image/webp:https://governorsgunclub.com/wp-content/uploads/PSBowlingpin-shooting_TV.webp
END:VEVENT
BEGIN:VEVENT
DTSTART;TZID=UTC:20291011T183000
DTEND;TZID=UTC:20291011T200000
DTSTAMP:20260424T180523
CREATED:20251231T213242Z
LAST-MODIFIED:20260120T173841Z
UID:10000740-1886437800-1886443200@governorsgunclub.com
SUMMARY:Bowling Pin Shoot
DESCRIPTION:Cost is $25 for non-members\, $10 for GGC Shooter or Platoon members\, and FREE from FMJ and High Brass Members. 22LR handguns only (we have some to rent if you don’t own one) Contact rburley@governorsgunclub.com if you have any questions!
URL:https://governorsgunclub.com/events/bowling-pin-shoot/2029-10-11/
LOCATION:Governors Gun Club Powder Springs\, 5740 C.H. James Parkway\, Powder Springs\, GA\, 30127\, United States
CATEGORIES:Handgun,Public
ATTACH;FMTTYPE=image/webp:https://governorsgunclub.com/wp-content/uploads/PSBowlingpin-shooting_TV.webp
END:VEVENT
BEGIN:VEVENT
DTSTART;TZID=UTC:20291018T183000
DTEND;TZID=UTC:20291018T200000
DTSTAMP:20260424T180523
CREATED:20251231T213242Z
LAST-MODIFIED:20260120T173841Z
UID:10000741-1887042600-1887048000@governorsgunclub.com
SUMMARY:Bowling Pin Shoot
DESCRIPTION:Cost is $25 for non-members\, $10 for GGC Shooter or Platoon members\, and FREE from FMJ and High Brass Members. 22LR handguns only (we have some to rent if you don’t own one) Contact rburley@governorsgunclub.com if you have any questions!
URL:https://governorsgunclub.com/events/bowling-pin-shoot/2029-10-18/
LOCATION:Governors Gun Club Powder Springs\, 5740 C.H. James Parkway\, Powder Springs\, GA\, 30127\, United States
CATEGORIES:Handgun,Public
ATTACH;FMTTYPE=image/webp:https://governorsgunclub.com/wp-content/uploads/PSBowlingpin-shooting_TV.webp
END:VEVENT
BEGIN:VEVENT
DTSTART;TZID=UTC:20291025T183000
DTEND;TZID=UTC:20291025T200000
DTSTAMP:20260424T180523
CREATED:20251231T213242Z
LAST-MODIFIED:20260120T173841Z
UID:10000742-1887647400-1887652800@governorsgunclub.com
SUMMARY:Bowling Pin Shoot
DESCRIPTION:Cost is $25 for non-members\, $10 for GGC Shooter or Platoon members\, and FREE from FMJ and High Brass Members. 22LR handguns only (we have some to rent if you don’t own one) Contact rburley@governorsgunclub.com if you have any questions!
URL:https://governorsgunclub.com/events/bowling-pin-shoot/2029-10-25/
LOCATION:Governors Gun Club Powder Springs\, 5740 C.H. James Parkway\, Powder Springs\, GA\, 30127\, United States
CATEGORIES:Handgun,Public
ATTACH;FMTTYPE=image/webp:https://governorsgunclub.com/wp-content/uploads/PSBowlingpin-shooting_TV.webp
END:VEVENT
BEGIN:VEVENT
DTSTART;TZID=UTC:20291101T183000
DTEND;TZID=UTC:20291101T200000
DTSTAMP:20260424T180523
CREATED:20251231T213242Z
LAST-MODIFIED:20260120T173841Z
UID:10000743-1888252200-1888257600@governorsgunclub.com
SUMMARY:Bowling Pin Shoot
DESCRIPTION:Cost is $25 for non-members\, $10 for GGC Shooter or Platoon members\, and FREE from FMJ and High Brass Members. 22LR handguns only (we have some to rent if you don’t own one) Contact rburley@governorsgunclub.com if you have any questions!
URL:https://governorsgunclub.com/events/bowling-pin-shoot/2029-11-01/
LOCATION:Governors Gun Club Powder Springs\, 5740 C.H. James Parkway\, Powder Springs\, GA\, 30127\, United States
CATEGORIES:Handgun,Public
ATTACH;FMTTYPE=image/webp:https://governorsgunclub.com/wp-content/uploads/PSBowlingpin-shooting_TV.webp
END:VEVENT
BEGIN:VEVENT
DTSTART;TZID=UTC:20291108T183000
DTEND;TZID=UTC:20291108T200000
DTSTAMP:20260424T180523
CREATED:20251231T213242Z
LAST-MODIFIED:20260120T173841Z
UID:10000744-1888857000-1888862400@governorsgunclub.com
SUMMARY:Bowling Pin Shoot
DESCRIPTION:Cost is $25 for non-members\, $10 for GGC Shooter or Platoon members\, and FREE from FMJ and High Brass Members. 22LR handguns only (we have some to rent if you don’t own one) Contact rburley@governorsgunclub.com if you have any questions!
URL:https://governorsgunclub.com/events/bowling-pin-shoot/2029-11-08/
LOCATION:Governors Gun Club Powder Springs\, 5740 C.H. James Parkway\, Powder Springs\, GA\, 30127\, United States
CATEGORIES:Handgun,Public
ATTACH;FMTTYPE=image/webp:https://governorsgunclub.com/wp-content/uploads/PSBowlingpin-shooting_TV.webp
END:VEVENT
BEGIN:VEVENT
DTSTART;TZID=UTC:20291115T183000
DTEND;TZID=UTC:20291115T200000
DTSTAMP:20260424T180523
CREATED:20251231T213242Z
LAST-MODIFIED:20260120T173841Z
UID:10000745-1889461800-1889467200@governorsgunclub.com
SUMMARY:Bowling Pin Shoot
DESCRIPTION:Cost is $25 for non-members\, $10 for GGC Shooter or Platoon members\, and FREE from FMJ and High Brass Members. 22LR handguns only (we have some to rent if you don’t own one) Contact rburley@governorsgunclub.com if you have any questions!
URL:https://governorsgunclub.com/events/bowling-pin-shoot/2029-11-15/
LOCATION:Governors Gun Club Powder Springs\, 5740 C.H. James Parkway\, Powder Springs\, GA\, 30127\, United States
CATEGORIES:Handgun,Public
ATTACH;FMTTYPE=image/webp:https://governorsgunclub.com/wp-content/uploads/PSBowlingpin-shooting_TV.webp
END:VEVENT
BEGIN:VEVENT
DTSTART;TZID=UTC:20291122T183000
DTEND;TZID=UTC:20291122T200000
DTSTAMP:20260424T180523
CREATED:20251231T213242Z
LAST-MODIFIED:20260120T173841Z
UID:10000746-1890066600-1890072000@governorsgunclub.com
SUMMARY:Bowling Pin Shoot
DESCRIPTION:Cost is $25 for non-members\, $10 for GGC Shooter or Platoon members\, and FREE from FMJ and High Brass Members. 22LR handguns only (we have some to rent if you don’t own one) Contact rburley@governorsgunclub.com if you have any questions!
URL:https://governorsgunclub.com/events/bowling-pin-shoot/2029-11-22/
LOCATION:Governors Gun Club Powder Springs\, 5740 C.H. James Parkway\, Powder Springs\, GA\, 30127\, United States
CATEGORIES:Handgun,Public
ATTACH;FMTTYPE=image/webp:https://governorsgunclub.com/wp-content/uploads/PSBowlingpin-shooting_TV.webp
END:VEVENT
BEGIN:VEVENT
DTSTART;TZID=UTC:20291129T183000
DTEND;TZID=UTC:20291129T200000
DTSTAMP:20260424T180523
CREATED:20251231T213242Z
LAST-MODIFIED:20260120T173841Z
UID:10000747-1890671400-1890676800@governorsgunclub.com
SUMMARY:Bowling Pin Shoot
DESCRIPTION:Cost is $25 for non-members\, $10 for GGC Shooter or Platoon members\, and FREE from FMJ and High Brass Members. 22LR handguns only (we have some to rent if you don’t own one) Contact rburley@governorsgunclub.com if you have any questions!
URL:https://governorsgunclub.com/events/bowling-pin-shoot/2029-11-29/
LOCATION:Governors Gun Club Powder Springs\, 5740 C.H. James Parkway\, Powder Springs\, GA\, 30127\, United States
CATEGORIES:Handgun,Public
ATTACH;FMTTYPE=image/webp:https://governorsgunclub.com/wp-content/uploads/PSBowlingpin-shooting_TV.webp
END:VEVENT
BEGIN:VEVENT
DTSTART;TZID=UTC:20291206T183000
DTEND;TZID=UTC:20291206T200000
DTSTAMP:20260424T180523
CREATED:20251231T213242Z
LAST-MODIFIED:20260120T173841Z
UID:10000748-1891276200-1891281600@governorsgunclub.com
SUMMARY:Bowling Pin Shoot
DESCRIPTION:Cost is $25 for non-members\, $10 for GGC Shooter or Platoon members\, and FREE from FMJ and High Brass Members. 22LR handguns only (we have some to rent if you don’t own one) Contact rburley@governorsgunclub.com if you have any questions!
URL:https://governorsgunclub.com/events/bowling-pin-shoot/2029-12-06/
LOCATION:Governors Gun Club Powder Springs\, 5740 C.H. James Parkway\, Powder Springs\, GA\, 30127\, United States
CATEGORIES:Handgun,Public
ATTACH;FMTTYPE=image/webp:https://governorsgunclub.com/wp-content/uploads/PSBowlingpin-shooting_TV.webp
END:VEVENT
BEGIN:VEVENT
DTSTART;TZID=UTC:20291213T183000
DTEND;TZID=UTC:20291213T200000
DTSTAMP:20260424T180523
CREATED:20251231T213242Z
LAST-MODIFIED:20260120T173841Z
UID:10000749-1891881000-1891886400@governorsgunclub.com
SUMMARY:Bowling Pin Shoot
DESCRIPTION:Cost is $25 for non-members\, $10 for GGC Shooter or Platoon members\, and FREE from FMJ and High Brass Members. 22LR handguns only (we have some to rent if you don’t own one) Contact rburley@governorsgunclub.com if you have any questions!
URL:https://governorsgunclub.com/events/bowling-pin-shoot/2029-12-13/
LOCATION:Governors Gun Club Powder Springs\, 5740 C.H. James Parkway\, Powder Springs\, GA\, 30127\, United States
CATEGORIES:Handgun,Public
ATTACH;FMTTYPE=image/webp:https://governorsgunclub.com/wp-content/uploads/PSBowlingpin-shooting_TV.webp
END:VEVENT
BEGIN:VEVENT
DTSTART;TZID=UTC:20291220T183000
DTEND;TZID=UTC:20291220T200000
DTSTAMP:20260424T180523
CREATED:20251231T213242Z
LAST-MODIFIED:20260120T173841Z
UID:10000750-1892485800-1892491200@governorsgunclub.com
SUMMARY:Bowling Pin Shoot
DESCRIPTION:Cost is $25 for non-members\, $10 for GGC Shooter or Platoon members\, and FREE from FMJ and High Brass Members. 22LR handguns only (we have some to rent if you don’t own one) Contact rburley@governorsgunclub.com if you have any questions!
URL:https://governorsgunclub.com/events/bowling-pin-shoot/2029-12-20/
LOCATION:Governors Gun Club Powder Springs\, 5740 C.H. James Parkway\, Powder Springs\, GA\, 30127\, United States
CATEGORIES:Handgun,Public
ATTACH;FMTTYPE=image/webp:https://governorsgunclub.com/wp-content/uploads/PSBowlingpin-shooting_TV.webp
END:VEVENT
BEGIN:VEVENT
DTSTART;TZID=UTC:20291227T183000
DTEND;TZID=UTC:20291227T200000
DTSTAMP:20260424T180523
CREATED:20251231T213242Z
LAST-MODIFIED:20260120T173841Z
UID:10000751-1893090600-1893096000@governorsgunclub.com
SUMMARY:Bowling Pin Shoot
DESCRIPTION:Cost is $25 for non-members\, $10 for GGC Shooter or Platoon members\, and FREE from FMJ and High Brass Members. 22LR handguns only (we have some to rent if you don’t own one) Contact rburley@governorsgunclub.com if you have any questions!
URL:https://governorsgunclub.com/events/bowling-pin-shoot/2029-12-27/
LOCATION:Governors Gun Club Powder Springs\, 5740 C.H. James Parkway\, Powder Springs\, GA\, 30127\, United States
CATEGORIES:Handgun,Public
ATTACH;FMTTYPE=image/webp:https://governorsgunclub.com/wp-content/uploads/PSBowlingpin-shooting_TV.webp
END:VEVENT
BEGIN:VEVENT
DTSTART;TZID=UTC:20300103T183000
DTEND;TZID=UTC:20300103T200000
DTSTAMP:20260424T180523
CREATED:20251231T213242Z
LAST-MODIFIED:20260120T173841Z
UID:10000752-1893695400-1893700800@governorsgunclub.com
SUMMARY:Bowling Pin Shoot
DESCRIPTION:Cost is $25 for non-members\, $10 for GGC Shooter or Platoon members\, and FREE from FMJ and High Brass Members. 22LR handguns only (we have some to rent if you don’t own one) Contact rburley@governorsgunclub.com if you have any questions!
URL:https://governorsgunclub.com/events/bowling-pin-shoot/2030-01-03/
LOCATION:Governors Gun Club Powder Springs\, 5740 C.H. James Parkway\, Powder Springs\, GA\, 30127\, United States
CATEGORIES:Handgun,Public
ATTACH;FMTTYPE=image/webp:https://governorsgunclub.com/wp-content/uploads/PSBowlingpin-shooting_TV.webp
END:VEVENT
BEGIN:VEVENT
DTSTART;TZID=UTC:20300110T183000
DTEND;TZID=UTC:20300110T200000
DTSTAMP:20260424T180523
CREATED:20251231T213242Z
LAST-MODIFIED:20260120T173841Z
UID:10000753-1894300200-1894305600@governorsgunclub.com
SUMMARY:Bowling Pin Shoot
DESCRIPTION:Cost is $25 for non-members\, $10 for GGC Shooter or Platoon members\, and FREE from FMJ and High Brass Members. 22LR handguns only (we have some to rent if you don’t own one) Contact rburley@governorsgunclub.com if you have any questions!
URL:https://governorsgunclub.com/events/bowling-pin-shoot/2030-01-10/
LOCATION:Governors Gun Club Powder Springs\, 5740 C.H. James Parkway\, Powder Springs\, GA\, 30127\, United States
CATEGORIES:Handgun,Public
ATTACH;FMTTYPE=image/webp:https://governorsgunclub.com/wp-content/uploads/PSBowlingpin-shooting_TV.webp
END:VEVENT
BEGIN:VEVENT
DTSTART;TZID=UTC:20300117T183000
DTEND;TZID=UTC:20300117T200000
DTSTAMP:20260424T180523
CREATED:20251231T213242Z
LAST-MODIFIED:20260120T173841Z
UID:10000754-1894905000-1894910400@governorsgunclub.com
SUMMARY:Bowling Pin Shoot
DESCRIPTION:Cost is $25 for non-members\, $10 for GGC Shooter or Platoon members\, and FREE from FMJ and High Brass Members. 22LR handguns only (we have some to rent if you don’t own one) Contact rburley@governorsgunclub.com if you have any questions!
URL:https://governorsgunclub.com/events/bowling-pin-shoot/2030-01-17/
LOCATION:Governors Gun Club Powder Springs\, 5740 C.H. James Parkway\, Powder Springs\, GA\, 30127\, United States
CATEGORIES:Handgun,Public
ATTACH;FMTTYPE=image/webp:https://governorsgunclub.com/wp-content/uploads/PSBowlingpin-shooting_TV.webp
END:VEVENT
BEGIN:VEVENT
DTSTART;TZID=UTC:20300124T183000
DTEND;TZID=UTC:20300124T200000
DTSTAMP:20260424T180523
CREATED:20251231T213242Z
LAST-MODIFIED:20260120T173841Z
UID:10000755-1895509800-1895515200@governorsgunclub.com
SUMMARY:Bowling Pin Shoot
DESCRIPTION:Cost is $25 for non-members\, $10 for GGC Shooter or Platoon members\, and FREE from FMJ and High Brass Members. 22LR handguns only (we have some to rent if you don’t own one) Contact rburley@governorsgunclub.com if you have any questions!
URL:https://governorsgunclub.com/events/bowling-pin-shoot/2030-01-24/
LOCATION:Governors Gun Club Powder Springs\, 5740 C.H. James Parkway\, Powder Springs\, GA\, 30127\, United States
CATEGORIES:Handgun,Public
ATTACH;FMTTYPE=image/webp:https://governorsgunclub.com/wp-content/uploads/PSBowlingpin-shooting_TV.webp
END:VEVENT
BEGIN:VEVENT
DTSTART;TZID=UTC:20300131T183000
DTEND;TZID=UTC:20300131T200000
DTSTAMP:20260424T180523
CREATED:20251231T213242Z
LAST-MODIFIED:20260120T173841Z
UID:10000756-1896114600-1896120000@governorsgunclub.com
SUMMARY:Bowling Pin Shoot
DESCRIPTION:Cost is $25 for non-members\, $10 for GGC Shooter or Platoon members\, and FREE from FMJ and High Brass Members. 22LR handguns only (we have some to rent if you don’t own one) Contact rburley@governorsgunclub.com if you have any questions!
URL:https://governorsgunclub.com/events/bowling-pin-shoot/2030-01-31/
LOCATION:Governors Gun Club Powder Springs\, 5740 C.H. James Parkway\, Powder Springs\, GA\, 30127\, United States
CATEGORIES:Handgun,Public
ATTACH;FMTTYPE=image/webp:https://governorsgunclub.com/wp-content/uploads/PSBowlingpin-shooting_TV.webp
END:VEVENT
BEGIN:VEVENT
DTSTART;TZID=UTC:20300207T183000
DTEND;TZID=UTC:20300207T200000
DTSTAMP:20260424T180523
CREATED:20251231T213242Z
LAST-MODIFIED:20260120T173841Z
UID:10000757-1896719400-1896724800@governorsgunclub.com
SUMMARY:Bowling Pin Shoot
DESCRIPTION:Cost is $25 for non-members\, $10 for GGC Shooter or Platoon members\, and FREE from FMJ and High Brass Members. 22LR handguns only (we have some to rent if you don’t own one) Contact rburley@governorsgunclub.com if you have any questions!
URL:https://governorsgunclub.com/events/bowling-pin-shoot/2030-02-07/
LOCATION:Governors Gun Club Powder Springs\, 5740 C.H. James Parkway\, Powder Springs\, GA\, 30127\, United States
CATEGORIES:Handgun,Public
ATTACH;FMTTYPE=image/webp:https://governorsgunclub.com/wp-content/uploads/PSBowlingpin-shooting_TV.webp
END:VEVENT
BEGIN:VEVENT
DTSTART;TZID=UTC:20300214T183000
DTEND;TZID=UTC:20300214T200000
DTSTAMP:20260424T180523
CREATED:20251231T213242Z
LAST-MODIFIED:20260120T173841Z
UID:10000758-1897324200-1897329600@governorsgunclub.com
SUMMARY:Bowling Pin Shoot
DESCRIPTION:Cost is $25 for non-members\, $10 for GGC Shooter or Platoon members\, and FREE from FMJ and High Brass Members. 22LR handguns only (we have some to rent if you don’t own one) Contact rburley@governorsgunclub.com if you have any questions!
URL:https://governorsgunclub.com/events/bowling-pin-shoot/2030-02-14/
LOCATION:Governors Gun Club Powder Springs\, 5740 C.H. James Parkway\, Powder Springs\, GA\, 30127\, United States
CATEGORIES:Handgun,Public
ATTACH;FMTTYPE=image/webp:https://governorsgunclub.com/wp-content/uploads/PSBowlingpin-shooting_TV.webp
END:VEVENT
BEGIN:VEVENT
DTSTART;TZID=UTC:20300221T183000
DTEND;TZID=UTC:20300221T200000
DTSTAMP:20260424T180523
CREATED:20251231T213242Z
LAST-MODIFIED:20260120T173841Z
UID:10000759-1897929000-1897934400@governorsgunclub.com
SUMMARY:Bowling Pin Shoot
DESCRIPTION:Cost is $25 for non-members\, $10 for GGC Shooter or Platoon members\, and FREE from FMJ and High Brass Members. 22LR handguns only (we have some to rent if you don’t own one) Contact rburley@governorsgunclub.com if you have any questions!
URL:https://governorsgunclub.com/events/bowling-pin-shoot/2030-02-21/
LOCATION:Governors Gun Club Powder Springs\, 5740 C.H. James Parkway\, Powder Springs\, GA\, 30127\, United States
CATEGORIES:Handgun,Public
ATTACH;FMTTYPE=image/webp:https://governorsgunclub.com/wp-content/uploads/PSBowlingpin-shooting_TV.webp
END:VEVENT
END:VCALENDAR