BEGIN:VCALENDAR
VERSION:2.0
PRODID:-//Governors Gun Club - ECPv6.15.20//NONSGML v1.0//EN
CALSCALE:GREGORIAN
METHOD:PUBLISH
X-ORIGINAL-URL:https://governorsgunclub.com
X-WR-CALDESC:Events for Governors Gun Club
REFRESH-INTERVAL;VALUE=DURATION:PT1H
X-Robots-Tag:noindex
X-PUBLISHED-TTL:PT1H
BEGIN:VTIMEZONE
TZID:UTC
BEGIN:STANDARD
TZOFFSETFROM:+0000
TZOFFSETTO:+0000
TZNAME:UTC
DTSTART:20280101T000000
END:STANDARD
END:VTIMEZONE
BEGIN:VEVENT
DTSTART;TZID=UTC:20291220T183000
DTEND;TZID=UTC:20291220T200000
DTSTAMP:20260424T211155
CREATED:20251231T213242Z
LAST-MODIFIED:20260120T173841Z
UID:10000750-1892485800-1892491200@governorsgunclub.com
SUMMARY:Bowling Pin Shoot
DESCRIPTION:Cost is $25 for non-members\, $10 for GGC Shooter or Platoon members\, and FREE from FMJ and High Brass Members. 22LR handguns only (we have some to rent if you don’t own one) Contact rburley@governorsgunclub.com if you have any questions!
URL:https://governorsgunclub.com/events/bowling-pin-shoot/2029-12-20/
LOCATION:Governors Gun Club Powder Springs\, 5740 C.H. James Parkway\, Powder Springs\, GA\, 30127\, United States
CATEGORIES:Handgun,Public
ATTACH;FMTTYPE=image/webp:https://governorsgunclub.com/wp-content/uploads/PSBowlingpin-shooting_TV.webp
END:VEVENT
BEGIN:VEVENT
DTSTART;TZID=UTC:20291227T183000
DTEND;TZID=UTC:20291227T200000
DTSTAMP:20260424T211155
CREATED:20251231T213242Z
LAST-MODIFIED:20260120T173841Z
UID:10000751-1893090600-1893096000@governorsgunclub.com
SUMMARY:Bowling Pin Shoot
DESCRIPTION:Cost is $25 for non-members\, $10 for GGC Shooter or Platoon members\, and FREE from FMJ and High Brass Members. 22LR handguns only (we have some to rent if you don’t own one) Contact rburley@governorsgunclub.com if you have any questions!
URL:https://governorsgunclub.com/events/bowling-pin-shoot/2029-12-27/
LOCATION:Governors Gun Club Powder Springs\, 5740 C.H. James Parkway\, Powder Springs\, GA\, 30127\, United States
CATEGORIES:Handgun,Public
ATTACH;FMTTYPE=image/webp:https://governorsgunclub.com/wp-content/uploads/PSBowlingpin-shooting_TV.webp
END:VEVENT
BEGIN:VEVENT
DTSTART;TZID=UTC:20300103T183000
DTEND;TZID=UTC:20300103T200000
DTSTAMP:20260424T211155
CREATED:20251231T213242Z
LAST-MODIFIED:20260120T173841Z
UID:10000752-1893695400-1893700800@governorsgunclub.com
SUMMARY:Bowling Pin Shoot
DESCRIPTION:Cost is $25 for non-members\, $10 for GGC Shooter or Platoon members\, and FREE from FMJ and High Brass Members. 22LR handguns only (we have some to rent if you don’t own one) Contact rburley@governorsgunclub.com if you have any questions!
URL:https://governorsgunclub.com/events/bowling-pin-shoot/2030-01-03/
LOCATION:Governors Gun Club Powder Springs\, 5740 C.H. James Parkway\, Powder Springs\, GA\, 30127\, United States
CATEGORIES:Handgun,Public
ATTACH;FMTTYPE=image/webp:https://governorsgunclub.com/wp-content/uploads/PSBowlingpin-shooting_TV.webp
END:VEVENT
BEGIN:VEVENT
DTSTART;TZID=UTC:20300110T183000
DTEND;TZID=UTC:20300110T200000
DTSTAMP:20260424T211155
CREATED:20251231T213242Z
LAST-MODIFIED:20260120T173841Z
UID:10000753-1894300200-1894305600@governorsgunclub.com
SUMMARY:Bowling Pin Shoot
DESCRIPTION:Cost is $25 for non-members\, $10 for GGC Shooter or Platoon members\, and FREE from FMJ and High Brass Members. 22LR handguns only (we have some to rent if you don’t own one) Contact rburley@governorsgunclub.com if you have any questions!
URL:https://governorsgunclub.com/events/bowling-pin-shoot/2030-01-10/
LOCATION:Governors Gun Club Powder Springs\, 5740 C.H. James Parkway\, Powder Springs\, GA\, 30127\, United States
CATEGORIES:Handgun,Public
ATTACH;FMTTYPE=image/webp:https://governorsgunclub.com/wp-content/uploads/PSBowlingpin-shooting_TV.webp
END:VEVENT
BEGIN:VEVENT
DTSTART;TZID=UTC:20300117T183000
DTEND;TZID=UTC:20300117T200000
DTSTAMP:20260424T211155
CREATED:20251231T213242Z
LAST-MODIFIED:20260120T173841Z
UID:10000754-1894905000-1894910400@governorsgunclub.com
SUMMARY:Bowling Pin Shoot
DESCRIPTION:Cost is $25 for non-members\, $10 for GGC Shooter or Platoon members\, and FREE from FMJ and High Brass Members. 22LR handguns only (we have some to rent if you don’t own one) Contact rburley@governorsgunclub.com if you have any questions!
URL:https://governorsgunclub.com/events/bowling-pin-shoot/2030-01-17/
LOCATION:Governors Gun Club Powder Springs\, 5740 C.H. James Parkway\, Powder Springs\, GA\, 30127\, United States
CATEGORIES:Handgun,Public
ATTACH;FMTTYPE=image/webp:https://governorsgunclub.com/wp-content/uploads/PSBowlingpin-shooting_TV.webp
END:VEVENT
BEGIN:VEVENT
DTSTART;TZID=UTC:20300124T183000
DTEND;TZID=UTC:20300124T200000
DTSTAMP:20260424T211155
CREATED:20251231T213242Z
LAST-MODIFIED:20260120T173841Z
UID:10000755-1895509800-1895515200@governorsgunclub.com
SUMMARY:Bowling Pin Shoot
DESCRIPTION:Cost is $25 for non-members\, $10 for GGC Shooter or Platoon members\, and FREE from FMJ and High Brass Members. 22LR handguns only (we have some to rent if you don’t own one) Contact rburley@governorsgunclub.com if you have any questions!
URL:https://governorsgunclub.com/events/bowling-pin-shoot/2030-01-24/
LOCATION:Governors Gun Club Powder Springs\, 5740 C.H. James Parkway\, Powder Springs\, GA\, 30127\, United States
CATEGORIES:Handgun,Public
ATTACH;FMTTYPE=image/webp:https://governorsgunclub.com/wp-content/uploads/PSBowlingpin-shooting_TV.webp
END:VEVENT
BEGIN:VEVENT
DTSTART;TZID=UTC:20300131T183000
DTEND;TZID=UTC:20300131T200000
DTSTAMP:20260424T211155
CREATED:20251231T213242Z
LAST-MODIFIED:20260120T173841Z
UID:10000756-1896114600-1896120000@governorsgunclub.com
SUMMARY:Bowling Pin Shoot
DESCRIPTION:Cost is $25 for non-members\, $10 for GGC Shooter or Platoon members\, and FREE from FMJ and High Brass Members. 22LR handguns only (we have some to rent if you don’t own one) Contact rburley@governorsgunclub.com if you have any questions!
URL:https://governorsgunclub.com/events/bowling-pin-shoot/2030-01-31/
LOCATION:Governors Gun Club Powder Springs\, 5740 C.H. James Parkway\, Powder Springs\, GA\, 30127\, United States
CATEGORIES:Handgun,Public
ATTACH;FMTTYPE=image/webp:https://governorsgunclub.com/wp-content/uploads/PSBowlingpin-shooting_TV.webp
END:VEVENT
BEGIN:VEVENT
DTSTART;TZID=UTC:20300207T183000
DTEND;TZID=UTC:20300207T200000
DTSTAMP:20260424T211155
CREATED:20251231T213242Z
LAST-MODIFIED:20260120T173841Z
UID:10000757-1896719400-1896724800@governorsgunclub.com
SUMMARY:Bowling Pin Shoot
DESCRIPTION:Cost is $25 for non-members\, $10 for GGC Shooter or Platoon members\, and FREE from FMJ and High Brass Members. 22LR handguns only (we have some to rent if you don’t own one) Contact rburley@governorsgunclub.com if you have any questions!
URL:https://governorsgunclub.com/events/bowling-pin-shoot/2030-02-07/
LOCATION:Governors Gun Club Powder Springs\, 5740 C.H. James Parkway\, Powder Springs\, GA\, 30127\, United States
CATEGORIES:Handgun,Public
ATTACH;FMTTYPE=image/webp:https://governorsgunclub.com/wp-content/uploads/PSBowlingpin-shooting_TV.webp
END:VEVENT
BEGIN:VEVENT
DTSTART;TZID=UTC:20300214T183000
DTEND;TZID=UTC:20300214T200000
DTSTAMP:20260424T211155
CREATED:20251231T213242Z
LAST-MODIFIED:20260120T173841Z
UID:10000758-1897324200-1897329600@governorsgunclub.com
SUMMARY:Bowling Pin Shoot
DESCRIPTION:Cost is $25 for non-members\, $10 for GGC Shooter or Platoon members\, and FREE from FMJ and High Brass Members. 22LR handguns only (we have some to rent if you don’t own one) Contact rburley@governorsgunclub.com if you have any questions!
URL:https://governorsgunclub.com/events/bowling-pin-shoot/2030-02-14/
LOCATION:Governors Gun Club Powder Springs\, 5740 C.H. James Parkway\, Powder Springs\, GA\, 30127\, United States
CATEGORIES:Handgun,Public
ATTACH;FMTTYPE=image/webp:https://governorsgunclub.com/wp-content/uploads/PSBowlingpin-shooting_TV.webp
END:VEVENT
BEGIN:VEVENT
DTSTART;TZID=UTC:20300221T183000
DTEND;TZID=UTC:20300221T200000
DTSTAMP:20260424T211155
CREATED:20251231T213242Z
LAST-MODIFIED:20260120T173841Z
UID:10000759-1897929000-1897934400@governorsgunclub.com
SUMMARY:Bowling Pin Shoot
DESCRIPTION:Cost is $25 for non-members\, $10 for GGC Shooter or Platoon members\, and FREE from FMJ and High Brass Members. 22LR handguns only (we have some to rent if you don’t own one) Contact rburley@governorsgunclub.com if you have any questions!
URL:https://governorsgunclub.com/events/bowling-pin-shoot/2030-02-21/
LOCATION:Governors Gun Club Powder Springs\, 5740 C.H. James Parkway\, Powder Springs\, GA\, 30127\, United States
CATEGORIES:Handgun,Public
ATTACH;FMTTYPE=image/webp:https://governorsgunclub.com/wp-content/uploads/PSBowlingpin-shooting_TV.webp
END:VEVENT
BEGIN:VEVENT
DTSTART;TZID=UTC:20300228T183000
DTEND;TZID=UTC:20300228T200000
DTSTAMP:20260424T211155
CREATED:20251231T213242Z
LAST-MODIFIED:20260120T173841Z
UID:10000760-1898533800-1898539200@governorsgunclub.com
SUMMARY:Bowling Pin Shoot
DESCRIPTION:Cost is $25 for non-members\, $10 for GGC Shooter or Platoon members\, and FREE from FMJ and High Brass Members. 22LR handguns only (we have some to rent if you don’t own one) Contact rburley@governorsgunclub.com if you have any questions!
URL:https://governorsgunclub.com/events/bowling-pin-shoot/2030-02-28/
LOCATION:Governors Gun Club Powder Springs\, 5740 C.H. James Parkway\, Powder Springs\, GA\, 30127\, United States
CATEGORIES:Handgun,Public
ATTACH;FMTTYPE=image/webp:https://governorsgunclub.com/wp-content/uploads/PSBowlingpin-shooting_TV.webp
END:VEVENT
BEGIN:VEVENT
DTSTART;TZID=UTC:20300307T183000
DTEND;TZID=UTC:20300307T200000
DTSTAMP:20260424T211155
CREATED:20251231T213242Z
LAST-MODIFIED:20260120T173841Z
UID:10000761-1899138600-1899144000@governorsgunclub.com
SUMMARY:Bowling Pin Shoot
DESCRIPTION:Cost is $25 for non-members\, $10 for GGC Shooter or Platoon members\, and FREE from FMJ and High Brass Members. 22LR handguns only (we have some to rent if you don’t own one) Contact rburley@governorsgunclub.com if you have any questions!
URL:https://governorsgunclub.com/events/bowling-pin-shoot/2030-03-07/
LOCATION:Governors Gun Club Powder Springs\, 5740 C.H. James Parkway\, Powder Springs\, GA\, 30127\, United States
CATEGORIES:Handgun,Public
ATTACH;FMTTYPE=image/webp:https://governorsgunclub.com/wp-content/uploads/PSBowlingpin-shooting_TV.webp
END:VEVENT
BEGIN:VEVENT
DTSTART;TZID=UTC:20300314T183000
DTEND;TZID=UTC:20300314T200000
DTSTAMP:20260424T211155
CREATED:20251231T213242Z
LAST-MODIFIED:20260120T173841Z
UID:10000762-1899743400-1899748800@governorsgunclub.com
SUMMARY:Bowling Pin Shoot
DESCRIPTION:Cost is $25 for non-members\, $10 for GGC Shooter or Platoon members\, and FREE from FMJ and High Brass Members. 22LR handguns only (we have some to rent if you don’t own one) Contact rburley@governorsgunclub.com if you have any questions!
URL:https://governorsgunclub.com/events/bowling-pin-shoot/2030-03-14/
LOCATION:Governors Gun Club Powder Springs\, 5740 C.H. James Parkway\, Powder Springs\, GA\, 30127\, United States
CATEGORIES:Handgun,Public
ATTACH;FMTTYPE=image/webp:https://governorsgunclub.com/wp-content/uploads/PSBowlingpin-shooting_TV.webp
END:VEVENT
BEGIN:VEVENT
DTSTART;TZID=UTC:20300321T183000
DTEND;TZID=UTC:20300321T200000
DTSTAMP:20260424T211155
CREATED:20251231T213242Z
LAST-MODIFIED:20260120T173841Z
UID:10000763-1900348200-1900353600@governorsgunclub.com
SUMMARY:Bowling Pin Shoot
DESCRIPTION:Cost is $25 for non-members\, $10 for GGC Shooter or Platoon members\, and FREE from FMJ and High Brass Members. 22LR handguns only (we have some to rent if you don’t own one) Contact rburley@governorsgunclub.com if you have any questions!
URL:https://governorsgunclub.com/events/bowling-pin-shoot/2030-03-21/
LOCATION:Governors Gun Club Powder Springs\, 5740 C.H. James Parkway\, Powder Springs\, GA\, 30127\, United States
CATEGORIES:Handgun,Public
ATTACH;FMTTYPE=image/webp:https://governorsgunclub.com/wp-content/uploads/PSBowlingpin-shooting_TV.webp
END:VEVENT
BEGIN:VEVENT
DTSTART;TZID=UTC:20300328T183000
DTEND;TZID=UTC:20300328T200000
DTSTAMP:20260424T211155
CREATED:20251231T213242Z
LAST-MODIFIED:20260120T173841Z
UID:10000764-1900953000-1900958400@governorsgunclub.com
SUMMARY:Bowling Pin Shoot
DESCRIPTION:Cost is $25 for non-members\, $10 for GGC Shooter or Platoon members\, and FREE from FMJ and High Brass Members. 22LR handguns only (we have some to rent if you don’t own one) Contact rburley@governorsgunclub.com if you have any questions!
URL:https://governorsgunclub.com/events/bowling-pin-shoot/2030-03-28/
LOCATION:Governors Gun Club Powder Springs\, 5740 C.H. James Parkway\, Powder Springs\, GA\, 30127\, United States
CATEGORIES:Handgun,Public
ATTACH;FMTTYPE=image/webp:https://governorsgunclub.com/wp-content/uploads/PSBowlingpin-shooting_TV.webp
END:VEVENT
BEGIN:VEVENT
DTSTART;TZID=UTC:20300404T183000
DTEND;TZID=UTC:20300404T200000
DTSTAMP:20260424T211155
CREATED:20251231T213242Z
LAST-MODIFIED:20260120T173841Z
UID:10000765-1901557800-1901563200@governorsgunclub.com
SUMMARY:Bowling Pin Shoot
DESCRIPTION:Cost is $25 for non-members\, $10 for GGC Shooter or Platoon members\, and FREE from FMJ and High Brass Members. 22LR handguns only (we have some to rent if you don’t own one) Contact rburley@governorsgunclub.com if you have any questions!
URL:https://governorsgunclub.com/events/bowling-pin-shoot/2030-04-04/
LOCATION:Governors Gun Club Powder Springs\, 5740 C.H. James Parkway\, Powder Springs\, GA\, 30127\, United States
CATEGORIES:Handgun,Public
ATTACH;FMTTYPE=image/webp:https://governorsgunclub.com/wp-content/uploads/PSBowlingpin-shooting_TV.webp
END:VEVENT
BEGIN:VEVENT
DTSTART;TZID=UTC:20300411T183000
DTEND;TZID=UTC:20300411T200000
DTSTAMP:20260424T211155
CREATED:20251231T213242Z
LAST-MODIFIED:20260120T173841Z
UID:10000766-1902162600-1902168000@governorsgunclub.com
SUMMARY:Bowling Pin Shoot
DESCRIPTION:Cost is $25 for non-members\, $10 for GGC Shooter or Platoon members\, and FREE from FMJ and High Brass Members. 22LR handguns only (we have some to rent if you don’t own one) Contact rburley@governorsgunclub.com if you have any questions!
URL:https://governorsgunclub.com/events/bowling-pin-shoot/2030-04-11/
LOCATION:Governors Gun Club Powder Springs\, 5740 C.H. James Parkway\, Powder Springs\, GA\, 30127\, United States
CATEGORIES:Handgun,Public
ATTACH;FMTTYPE=image/webp:https://governorsgunclub.com/wp-content/uploads/PSBowlingpin-shooting_TV.webp
END:VEVENT
BEGIN:VEVENT
DTSTART;TZID=UTC:20300418T183000
DTEND;TZID=UTC:20300418T200000
DTSTAMP:20260424T211155
CREATED:20251231T213242Z
LAST-MODIFIED:20260120T173841Z
UID:10000767-1902767400-1902772800@governorsgunclub.com
SUMMARY:Bowling Pin Shoot
DESCRIPTION:Cost is $25 for non-members\, $10 for GGC Shooter or Platoon members\, and FREE from FMJ and High Brass Members. 22LR handguns only (we have some to rent if you don’t own one) Contact rburley@governorsgunclub.com if you have any questions!
URL:https://governorsgunclub.com/events/bowling-pin-shoot/2030-04-18/
LOCATION:Governors Gun Club Powder Springs\, 5740 C.H. James Parkway\, Powder Springs\, GA\, 30127\, United States
CATEGORIES:Handgun,Public
ATTACH;FMTTYPE=image/webp:https://governorsgunclub.com/wp-content/uploads/PSBowlingpin-shooting_TV.webp
END:VEVENT
BEGIN:VEVENT
DTSTART;TZID=UTC:20300425T183000
DTEND;TZID=UTC:20300425T200000
DTSTAMP:20260424T211155
CREATED:20251231T213242Z
LAST-MODIFIED:20260120T173841Z
UID:10000768-1903372200-1903377600@governorsgunclub.com
SUMMARY:Bowling Pin Shoot
DESCRIPTION:Cost is $25 for non-members\, $10 for GGC Shooter or Platoon members\, and FREE from FMJ and High Brass Members. 22LR handguns only (we have some to rent if you don’t own one) Contact rburley@governorsgunclub.com if you have any questions!
URL:https://governorsgunclub.com/events/bowling-pin-shoot/2030-04-25/
LOCATION:Governors Gun Club Powder Springs\, 5740 C.H. James Parkway\, Powder Springs\, GA\, 30127\, United States
CATEGORIES:Handgun,Public
ATTACH;FMTTYPE=image/webp:https://governorsgunclub.com/wp-content/uploads/PSBowlingpin-shooting_TV.webp
END:VEVENT
BEGIN:VEVENT
DTSTART;TZID=UTC:20300502T183000
DTEND;TZID=UTC:20300502T200000
DTSTAMP:20260424T211155
CREATED:20251231T213242Z
LAST-MODIFIED:20260120T173841Z
UID:10000769-1903977000-1903982400@governorsgunclub.com
SUMMARY:Bowling Pin Shoot
DESCRIPTION:Cost is $25 for non-members\, $10 for GGC Shooter or Platoon members\, and FREE from FMJ and High Brass Members. 22LR handguns only (we have some to rent if you don’t own one) Contact rburley@governorsgunclub.com if you have any questions!
URL:https://governorsgunclub.com/events/bowling-pin-shoot/2030-05-02/
LOCATION:Governors Gun Club Powder Springs\, 5740 C.H. James Parkway\, Powder Springs\, GA\, 30127\, United States
CATEGORIES:Handgun,Public
ATTACH;FMTTYPE=image/webp:https://governorsgunclub.com/wp-content/uploads/PSBowlingpin-shooting_TV.webp
END:VEVENT
BEGIN:VEVENT
DTSTART;TZID=UTC:20300509T183000
DTEND;TZID=UTC:20300509T200000
DTSTAMP:20260424T211155
CREATED:20251231T213242Z
LAST-MODIFIED:20260120T173841Z
UID:10000770-1904581800-1904587200@governorsgunclub.com
SUMMARY:Bowling Pin Shoot
DESCRIPTION:Cost is $25 for non-members\, $10 for GGC Shooter or Platoon members\, and FREE from FMJ and High Brass Members. 22LR handguns only (we have some to rent if you don’t own one) Contact rburley@governorsgunclub.com if you have any questions!
URL:https://governorsgunclub.com/events/bowling-pin-shoot/2030-05-09/
LOCATION:Governors Gun Club Powder Springs\, 5740 C.H. James Parkway\, Powder Springs\, GA\, 30127\, United States
CATEGORIES:Handgun,Public
ATTACH;FMTTYPE=image/webp:https://governorsgunclub.com/wp-content/uploads/PSBowlingpin-shooting_TV.webp
END:VEVENT
BEGIN:VEVENT
DTSTART;TZID=UTC:20300516T183000
DTEND;TZID=UTC:20300516T200000
DTSTAMP:20260424T211155
CREATED:20251231T213242Z
LAST-MODIFIED:20260120T173841Z
UID:10000771-1905186600-1905192000@governorsgunclub.com
SUMMARY:Bowling Pin Shoot
DESCRIPTION:Cost is $25 for non-members\, $10 for GGC Shooter or Platoon members\, and FREE from FMJ and High Brass Members. 22LR handguns only (we have some to rent if you don’t own one) Contact rburley@governorsgunclub.com if you have any questions!
URL:https://governorsgunclub.com/events/bowling-pin-shoot/2030-05-16/
LOCATION:Governors Gun Club Powder Springs\, 5740 C.H. James Parkway\, Powder Springs\, GA\, 30127\, United States
CATEGORIES:Handgun,Public
ATTACH;FMTTYPE=image/webp:https://governorsgunclub.com/wp-content/uploads/PSBowlingpin-shooting_TV.webp
END:VEVENT
BEGIN:VEVENT
DTSTART;TZID=UTC:20300523T183000
DTEND;TZID=UTC:20300523T200000
DTSTAMP:20260424T211155
CREATED:20251231T213242Z
LAST-MODIFIED:20260120T173841Z
UID:10000772-1905791400-1905796800@governorsgunclub.com
SUMMARY:Bowling Pin Shoot
DESCRIPTION:Cost is $25 for non-members\, $10 for GGC Shooter or Platoon members\, and FREE from FMJ and High Brass Members. 22LR handguns only (we have some to rent if you don’t own one) Contact rburley@governorsgunclub.com if you have any questions!
URL:https://governorsgunclub.com/events/bowling-pin-shoot/2030-05-23/
LOCATION:Governors Gun Club Powder Springs\, 5740 C.H. James Parkway\, Powder Springs\, GA\, 30127\, United States
CATEGORIES:Handgun,Public
ATTACH;FMTTYPE=image/webp:https://governorsgunclub.com/wp-content/uploads/PSBowlingpin-shooting_TV.webp
END:VEVENT
BEGIN:VEVENT
DTSTART;TZID=UTC:20300530T183000
DTEND;TZID=UTC:20300530T200000
DTSTAMP:20260424T211155
CREATED:20251231T213242Z
LAST-MODIFIED:20260120T173841Z
UID:10000773-1906396200-1906401600@governorsgunclub.com
SUMMARY:Bowling Pin Shoot
DESCRIPTION:Cost is $25 for non-members\, $10 for GGC Shooter or Platoon members\, and FREE from FMJ and High Brass Members. 22LR handguns only (we have some to rent if you don’t own one) Contact rburley@governorsgunclub.com if you have any questions!
URL:https://governorsgunclub.com/events/bowling-pin-shoot/2030-05-30/
LOCATION:Governors Gun Club Powder Springs\, 5740 C.H. James Parkway\, Powder Springs\, GA\, 30127\, United States
CATEGORIES:Handgun,Public
ATTACH;FMTTYPE=image/webp:https://governorsgunclub.com/wp-content/uploads/PSBowlingpin-shooting_TV.webp
END:VEVENT
BEGIN:VEVENT
DTSTART;TZID=UTC:20300606T183000
DTEND;TZID=UTC:20300606T200000
DTSTAMP:20260424T211155
CREATED:20251231T213242Z
LAST-MODIFIED:20260120T173841Z
UID:10000774-1907001000-1907006400@governorsgunclub.com
SUMMARY:Bowling Pin Shoot
DESCRIPTION:Cost is $25 for non-members\, $10 for GGC Shooter or Platoon members\, and FREE from FMJ and High Brass Members. 22LR handguns only (we have some to rent if you don’t own one) Contact rburley@governorsgunclub.com if you have any questions!
URL:https://governorsgunclub.com/events/bowling-pin-shoot/2030-06-06/
LOCATION:Governors Gun Club Powder Springs\, 5740 C.H. James Parkway\, Powder Springs\, GA\, 30127\, United States
CATEGORIES:Handgun,Public
ATTACH;FMTTYPE=image/webp:https://governorsgunclub.com/wp-content/uploads/PSBowlingpin-shooting_TV.webp
END:VEVENT
BEGIN:VEVENT
DTSTART;TZID=UTC:20300613T183000
DTEND;TZID=UTC:20300613T200000
DTSTAMP:20260424T211155
CREATED:20251231T213242Z
LAST-MODIFIED:20260120T173841Z
UID:10000775-1907605800-1907611200@governorsgunclub.com
SUMMARY:Bowling Pin Shoot
DESCRIPTION:Cost is $25 for non-members\, $10 for GGC Shooter or Platoon members\, and FREE from FMJ and High Brass Members. 22LR handguns only (we have some to rent if you don’t own one) Contact rburley@governorsgunclub.com if you have any questions!
URL:https://governorsgunclub.com/events/bowling-pin-shoot/2030-06-13/
LOCATION:Governors Gun Club Powder Springs\, 5740 C.H. James Parkway\, Powder Springs\, GA\, 30127\, United States
CATEGORIES:Handgun,Public
ATTACH;FMTTYPE=image/webp:https://governorsgunclub.com/wp-content/uploads/PSBowlingpin-shooting_TV.webp
END:VEVENT
BEGIN:VEVENT
DTSTART;TZID=UTC:20300620T183000
DTEND;TZID=UTC:20300620T200000
DTSTAMP:20260424T211155
CREATED:20251231T213242Z
LAST-MODIFIED:20260120T173841Z
UID:10000776-1908210600-1908216000@governorsgunclub.com
SUMMARY:Bowling Pin Shoot
DESCRIPTION:Cost is $25 for non-members\, $10 for GGC Shooter or Platoon members\, and FREE from FMJ and High Brass Members. 22LR handguns only (we have some to rent if you don’t own one) Contact rburley@governorsgunclub.com if you have any questions!
URL:https://governorsgunclub.com/events/bowling-pin-shoot/2030-06-20/
LOCATION:Governors Gun Club Powder Springs\, 5740 C.H. James Parkway\, Powder Springs\, GA\, 30127\, United States
CATEGORIES:Handgun,Public
ATTACH;FMTTYPE=image/webp:https://governorsgunclub.com/wp-content/uploads/PSBowlingpin-shooting_TV.webp
END:VEVENT
BEGIN:VEVENT
DTSTART;TZID=UTC:20300627T183000
DTEND;TZID=UTC:20300627T200000
DTSTAMP:20260424T211155
CREATED:20251231T213242Z
LAST-MODIFIED:20260120T173841Z
UID:10000777-1908815400-1908820800@governorsgunclub.com
SUMMARY:Bowling Pin Shoot
DESCRIPTION:Cost is $25 for non-members\, $10 for GGC Shooter or Platoon members\, and FREE from FMJ and High Brass Members. 22LR handguns only (we have some to rent if you don’t own one) Contact rburley@governorsgunclub.com if you have any questions!
URL:https://governorsgunclub.com/events/bowling-pin-shoot/2030-06-27/
LOCATION:Governors Gun Club Powder Springs\, 5740 C.H. James Parkway\, Powder Springs\, GA\, 30127\, United States
CATEGORIES:Handgun,Public
ATTACH;FMTTYPE=image/webp:https://governorsgunclub.com/wp-content/uploads/PSBowlingpin-shooting_TV.webp
END:VEVENT
BEGIN:VEVENT
DTSTART;TZID=UTC:20300704T183000
DTEND;TZID=UTC:20300704T200000
DTSTAMP:20260424T211155
CREATED:20251231T213242Z
LAST-MODIFIED:20260120T173841Z
UID:10000778-1909420200-1909425600@governorsgunclub.com
SUMMARY:Bowling Pin Shoot
DESCRIPTION:Cost is $25 for non-members\, $10 for GGC Shooter or Platoon members\, and FREE from FMJ and High Brass Members. 22LR handguns only (we have some to rent if you don’t own one) Contact rburley@governorsgunclub.com if you have any questions!
URL:https://governorsgunclub.com/events/bowling-pin-shoot/2030-07-04/
LOCATION:Governors Gun Club Powder Springs\, 5740 C.H. James Parkway\, Powder Springs\, GA\, 30127\, United States
CATEGORIES:Handgun,Public
ATTACH;FMTTYPE=image/webp:https://governorsgunclub.com/wp-content/uploads/PSBowlingpin-shooting_TV.webp
END:VEVENT
BEGIN:VEVENT
DTSTART;TZID=UTC:20300711T183000
DTEND;TZID=UTC:20300711T200000
DTSTAMP:20260424T211155
CREATED:20251231T213242Z
LAST-MODIFIED:20260120T173841Z
UID:10000779-1910025000-1910030400@governorsgunclub.com
SUMMARY:Bowling Pin Shoot
DESCRIPTION:Cost is $25 for non-members\, $10 for GGC Shooter or Platoon members\, and FREE from FMJ and High Brass Members. 22LR handguns only (we have some to rent if you don’t own one) Contact rburley@governorsgunclub.com if you have any questions!
URL:https://governorsgunclub.com/events/bowling-pin-shoot/2030-07-11/
LOCATION:Governors Gun Club Powder Springs\, 5740 C.H. James Parkway\, Powder Springs\, GA\, 30127\, United States
CATEGORIES:Handgun,Public
ATTACH;FMTTYPE=image/webp:https://governorsgunclub.com/wp-content/uploads/PSBowlingpin-shooting_TV.webp
END:VEVENT
END:VCALENDAR