BEGIN:VCALENDAR
VERSION:2.0
PRODID:-//Governors Gun Club - ECPv6.15.20//NONSGML v1.0//EN
CALSCALE:GREGORIAN
METHOD:PUBLISH
X-ORIGINAL-URL:https://governorsgunclub.com
X-WR-CALDESC:Events for Governors Gun Club
REFRESH-INTERVAL;VALUE=DURATION:PT1H
X-Robots-Tag:noindex
X-PUBLISHED-TTL:PT1H
BEGIN:VTIMEZONE
TZID:UTC
BEGIN:STANDARD
TZOFFSETFROM:+0000
TZOFFSETTO:+0000
TZNAME:UTC
DTSTART:20260101T000000
END:STANDARD
END:VTIMEZONE
BEGIN:VEVENT
DTSTART;TZID=UTC:20270826T183000
DTEND;TZID=UTC:20270826T200000
DTSTAMP:20260420T042603
CREATED:20251231T213242Z
LAST-MODIFIED:20260120T173841Z
UID:10000629-1819305000-1819310400@governorsgunclub.com
SUMMARY:Bowling Pin Shoot
DESCRIPTION:Cost is $25 for non-members\, $10 for GGC Shooter or Platoon members\, and FREE from FMJ and High Brass Members. 22LR handguns only (we have some to rent if you don’t own one) Contact rburley@governorsgunclub.com if you have any questions!
URL:https://governorsgunclub.com/events/bowling-pin-shoot/2027-08-26/
LOCATION:Governors Gun Club Powder Springs\, 5740 C.H. James Parkway\, Powder Springs\, GA\, 30127\, United States
CATEGORIES:Handgun,Public
ATTACH;FMTTYPE=image/webp:https://governorsgunclub.com/wp-content/uploads/PSBowlingpin-shooting_TV.webp
END:VEVENT
BEGIN:VEVENT
DTSTART;TZID=UTC:20270902T183000
DTEND;TZID=UTC:20270902T200000
DTSTAMP:20260420T042603
CREATED:20251231T213242Z
LAST-MODIFIED:20260120T173841Z
UID:10000630-1819909800-1819915200@governorsgunclub.com
SUMMARY:Bowling Pin Shoot
DESCRIPTION:Cost is $25 for non-members\, $10 for GGC Shooter or Platoon members\, and FREE from FMJ and High Brass Members. 22LR handguns only (we have some to rent if you don’t own one) Contact rburley@governorsgunclub.com if you have any questions!
URL:https://governorsgunclub.com/events/bowling-pin-shoot/2027-09-02/
LOCATION:Governors Gun Club Powder Springs\, 5740 C.H. James Parkway\, Powder Springs\, GA\, 30127\, United States
CATEGORIES:Handgun,Public
ATTACH;FMTTYPE=image/webp:https://governorsgunclub.com/wp-content/uploads/PSBowlingpin-shooting_TV.webp
END:VEVENT
BEGIN:VEVENT
DTSTART;TZID=UTC:20270909T183000
DTEND;TZID=UTC:20270909T200000
DTSTAMP:20260420T042603
CREATED:20251231T213242Z
LAST-MODIFIED:20260120T173841Z
UID:10000631-1820514600-1820520000@governorsgunclub.com
SUMMARY:Bowling Pin Shoot
DESCRIPTION:Cost is $25 for non-members\, $10 for GGC Shooter or Platoon members\, and FREE from FMJ and High Brass Members. 22LR handguns only (we have some to rent if you don’t own one) Contact rburley@governorsgunclub.com if you have any questions!
URL:https://governorsgunclub.com/events/bowling-pin-shoot/2027-09-09/
LOCATION:Governors Gun Club Powder Springs\, 5740 C.H. James Parkway\, Powder Springs\, GA\, 30127\, United States
CATEGORIES:Handgun,Public
ATTACH;FMTTYPE=image/webp:https://governorsgunclub.com/wp-content/uploads/PSBowlingpin-shooting_TV.webp
END:VEVENT
BEGIN:VEVENT
DTSTART;TZID=UTC:20270916T183000
DTEND;TZID=UTC:20270916T200000
DTSTAMP:20260420T042603
CREATED:20251231T213242Z
LAST-MODIFIED:20260120T173841Z
UID:10000632-1821119400-1821124800@governorsgunclub.com
SUMMARY:Bowling Pin Shoot
DESCRIPTION:Cost is $25 for non-members\, $10 for GGC Shooter or Platoon members\, and FREE from FMJ and High Brass Members. 22LR handguns only (we have some to rent if you don’t own one) Contact rburley@governorsgunclub.com if you have any questions!
URL:https://governorsgunclub.com/events/bowling-pin-shoot/2027-09-16/
LOCATION:Governors Gun Club Powder Springs\, 5740 C.H. James Parkway\, Powder Springs\, GA\, 30127\, United States
CATEGORIES:Handgun,Public
ATTACH;FMTTYPE=image/webp:https://governorsgunclub.com/wp-content/uploads/PSBowlingpin-shooting_TV.webp
END:VEVENT
BEGIN:VEVENT
DTSTART;TZID=UTC:20270923T183000
DTEND;TZID=UTC:20270923T200000
DTSTAMP:20260420T042603
CREATED:20251231T213242Z
LAST-MODIFIED:20260120T173841Z
UID:10000633-1821724200-1821729600@governorsgunclub.com
SUMMARY:Bowling Pin Shoot
DESCRIPTION:Cost is $25 for non-members\, $10 for GGC Shooter or Platoon members\, and FREE from FMJ and High Brass Members. 22LR handguns only (we have some to rent if you don’t own one) Contact rburley@governorsgunclub.com if you have any questions!
URL:https://governorsgunclub.com/events/bowling-pin-shoot/2027-09-23/
LOCATION:Governors Gun Club Powder Springs\, 5740 C.H. James Parkway\, Powder Springs\, GA\, 30127\, United States
CATEGORIES:Handgun,Public
ATTACH;FMTTYPE=image/webp:https://governorsgunclub.com/wp-content/uploads/PSBowlingpin-shooting_TV.webp
END:VEVENT
BEGIN:VEVENT
DTSTART;TZID=UTC:20270930T183000
DTEND;TZID=UTC:20270930T200000
DTSTAMP:20260420T042603
CREATED:20251231T213242Z
LAST-MODIFIED:20260120T173841Z
UID:10000634-1822329000-1822334400@governorsgunclub.com
SUMMARY:Bowling Pin Shoot
DESCRIPTION:Cost is $25 for non-members\, $10 for GGC Shooter or Platoon members\, and FREE from FMJ and High Brass Members. 22LR handguns only (we have some to rent if you don’t own one) Contact rburley@governorsgunclub.com if you have any questions!
URL:https://governorsgunclub.com/events/bowling-pin-shoot/2027-09-30/
LOCATION:Governors Gun Club Powder Springs\, 5740 C.H. James Parkway\, Powder Springs\, GA\, 30127\, United States
CATEGORIES:Handgun,Public
ATTACH;FMTTYPE=image/webp:https://governorsgunclub.com/wp-content/uploads/PSBowlingpin-shooting_TV.webp
END:VEVENT
BEGIN:VEVENT
DTSTART;TZID=UTC:20271007T183000
DTEND;TZID=UTC:20271007T200000
DTSTAMP:20260420T042603
CREATED:20251231T213242Z
LAST-MODIFIED:20260120T173841Z
UID:10000635-1822933800-1822939200@governorsgunclub.com
SUMMARY:Bowling Pin Shoot
DESCRIPTION:Cost is $25 for non-members\, $10 for GGC Shooter or Platoon members\, and FREE from FMJ and High Brass Members. 22LR handguns only (we have some to rent if you don’t own one) Contact rburley@governorsgunclub.com if you have any questions!
URL:https://governorsgunclub.com/events/bowling-pin-shoot/2027-10-07/
LOCATION:Governors Gun Club Powder Springs\, 5740 C.H. James Parkway\, Powder Springs\, GA\, 30127\, United States
CATEGORIES:Handgun,Public
ATTACH;FMTTYPE=image/webp:https://governorsgunclub.com/wp-content/uploads/PSBowlingpin-shooting_TV.webp
END:VEVENT
BEGIN:VEVENT
DTSTART;TZID=UTC:20271014T183000
DTEND;TZID=UTC:20271014T200000
DTSTAMP:20260420T042603
CREATED:20251231T213242Z
LAST-MODIFIED:20260120T173841Z
UID:10000636-1823538600-1823544000@governorsgunclub.com
SUMMARY:Bowling Pin Shoot
DESCRIPTION:Cost is $25 for non-members\, $10 for GGC Shooter or Platoon members\, and FREE from FMJ and High Brass Members. 22LR handguns only (we have some to rent if you don’t own one) Contact rburley@governorsgunclub.com if you have any questions!
URL:https://governorsgunclub.com/events/bowling-pin-shoot/2027-10-14/
LOCATION:Governors Gun Club Powder Springs\, 5740 C.H. James Parkway\, Powder Springs\, GA\, 30127\, United States
CATEGORIES:Handgun,Public
ATTACH;FMTTYPE=image/webp:https://governorsgunclub.com/wp-content/uploads/PSBowlingpin-shooting_TV.webp
END:VEVENT
BEGIN:VEVENT
DTSTART;TZID=UTC:20271021T183000
DTEND;TZID=UTC:20271021T200000
DTSTAMP:20260420T042603
CREATED:20251231T213242Z
LAST-MODIFIED:20260120T173841Z
UID:10000637-1824143400-1824148800@governorsgunclub.com
SUMMARY:Bowling Pin Shoot
DESCRIPTION:Cost is $25 for non-members\, $10 for GGC Shooter or Platoon members\, and FREE from FMJ and High Brass Members. 22LR handguns only (we have some to rent if you don’t own one) Contact rburley@governorsgunclub.com if you have any questions!
URL:https://governorsgunclub.com/events/bowling-pin-shoot/2027-10-21/
LOCATION:Governors Gun Club Powder Springs\, 5740 C.H. James Parkway\, Powder Springs\, GA\, 30127\, United States
CATEGORIES:Handgun,Public
ATTACH;FMTTYPE=image/webp:https://governorsgunclub.com/wp-content/uploads/PSBowlingpin-shooting_TV.webp
END:VEVENT
BEGIN:VEVENT
DTSTART;TZID=UTC:20271028T183000
DTEND;TZID=UTC:20271028T200000
DTSTAMP:20260420T042603
CREATED:20251231T213242Z
LAST-MODIFIED:20260120T173841Z
UID:10000638-1824748200-1824753600@governorsgunclub.com
SUMMARY:Bowling Pin Shoot
DESCRIPTION:Cost is $25 for non-members\, $10 for GGC Shooter or Platoon members\, and FREE from FMJ and High Brass Members. 22LR handguns only (we have some to rent if you don’t own one) Contact rburley@governorsgunclub.com if you have any questions!
URL:https://governorsgunclub.com/events/bowling-pin-shoot/2027-10-28/
LOCATION:Governors Gun Club Powder Springs\, 5740 C.H. James Parkway\, Powder Springs\, GA\, 30127\, United States
CATEGORIES:Handgun,Public
ATTACH;FMTTYPE=image/webp:https://governorsgunclub.com/wp-content/uploads/PSBowlingpin-shooting_TV.webp
END:VEVENT
BEGIN:VEVENT
DTSTART;TZID=UTC:20271104T183000
DTEND;TZID=UTC:20271104T200000
DTSTAMP:20260420T042603
CREATED:20251231T213242Z
LAST-MODIFIED:20260120T173841Z
UID:10000639-1825353000-1825358400@governorsgunclub.com
SUMMARY:Bowling Pin Shoot
DESCRIPTION:Cost is $25 for non-members\, $10 for GGC Shooter or Platoon members\, and FREE from FMJ and High Brass Members. 22LR handguns only (we have some to rent if you don’t own one) Contact rburley@governorsgunclub.com if you have any questions!
URL:https://governorsgunclub.com/events/bowling-pin-shoot/2027-11-04/
LOCATION:Governors Gun Club Powder Springs\, 5740 C.H. James Parkway\, Powder Springs\, GA\, 30127\, United States
CATEGORIES:Handgun,Public
ATTACH;FMTTYPE=image/webp:https://governorsgunclub.com/wp-content/uploads/PSBowlingpin-shooting_TV.webp
END:VEVENT
BEGIN:VEVENT
DTSTART;TZID=UTC:20271111T183000
DTEND;TZID=UTC:20271111T200000
DTSTAMP:20260420T042603
CREATED:20251231T213242Z
LAST-MODIFIED:20260120T173841Z
UID:10000640-1825957800-1825963200@governorsgunclub.com
SUMMARY:Bowling Pin Shoot
DESCRIPTION:Cost is $25 for non-members\, $10 for GGC Shooter or Platoon members\, and FREE from FMJ and High Brass Members. 22LR handguns only (we have some to rent if you don’t own one) Contact rburley@governorsgunclub.com if you have any questions!
URL:https://governorsgunclub.com/events/bowling-pin-shoot/2027-11-11/
LOCATION:Governors Gun Club Powder Springs\, 5740 C.H. James Parkway\, Powder Springs\, GA\, 30127\, United States
CATEGORIES:Handgun,Public
ATTACH;FMTTYPE=image/webp:https://governorsgunclub.com/wp-content/uploads/PSBowlingpin-shooting_TV.webp
END:VEVENT
BEGIN:VEVENT
DTSTART;TZID=UTC:20271118T183000
DTEND;TZID=UTC:20271118T200000
DTSTAMP:20260420T042603
CREATED:20251231T213242Z
LAST-MODIFIED:20260120T173841Z
UID:10000641-1826562600-1826568000@governorsgunclub.com
SUMMARY:Bowling Pin Shoot
DESCRIPTION:Cost is $25 for non-members\, $10 for GGC Shooter or Platoon members\, and FREE from FMJ and High Brass Members. 22LR handguns only (we have some to rent if you don’t own one) Contact rburley@governorsgunclub.com if you have any questions!
URL:https://governorsgunclub.com/events/bowling-pin-shoot/2027-11-18/
LOCATION:Governors Gun Club Powder Springs\, 5740 C.H. James Parkway\, Powder Springs\, GA\, 30127\, United States
CATEGORIES:Handgun,Public
ATTACH;FMTTYPE=image/webp:https://governorsgunclub.com/wp-content/uploads/PSBowlingpin-shooting_TV.webp
END:VEVENT
BEGIN:VEVENT
DTSTART;TZID=UTC:20271125T183000
DTEND;TZID=UTC:20271125T200000
DTSTAMP:20260420T042603
CREATED:20251231T213242Z
LAST-MODIFIED:20260120T173841Z
UID:10000642-1827167400-1827172800@governorsgunclub.com
SUMMARY:Bowling Pin Shoot
DESCRIPTION:Cost is $25 for non-members\, $10 for GGC Shooter or Platoon members\, and FREE from FMJ and High Brass Members. 22LR handguns only (we have some to rent if you don’t own one) Contact rburley@governorsgunclub.com if you have any questions!
URL:https://governorsgunclub.com/events/bowling-pin-shoot/2027-11-25/
LOCATION:Governors Gun Club Powder Springs\, 5740 C.H. James Parkway\, Powder Springs\, GA\, 30127\, United States
CATEGORIES:Handgun,Public
ATTACH;FMTTYPE=image/webp:https://governorsgunclub.com/wp-content/uploads/PSBowlingpin-shooting_TV.webp
END:VEVENT
BEGIN:VEVENT
DTSTART;TZID=UTC:20271202T183000
DTEND;TZID=UTC:20271202T200000
DTSTAMP:20260420T042603
CREATED:20251231T213242Z
LAST-MODIFIED:20260120T173841Z
UID:10000643-1827772200-1827777600@governorsgunclub.com
SUMMARY:Bowling Pin Shoot
DESCRIPTION:Cost is $25 for non-members\, $10 for GGC Shooter or Platoon members\, and FREE from FMJ and High Brass Members. 22LR handguns only (we have some to rent if you don’t own one) Contact rburley@governorsgunclub.com if you have any questions!
URL:https://governorsgunclub.com/events/bowling-pin-shoot/2027-12-02/
LOCATION:Governors Gun Club Powder Springs\, 5740 C.H. James Parkway\, Powder Springs\, GA\, 30127\, United States
CATEGORIES:Handgun,Public
ATTACH;FMTTYPE=image/webp:https://governorsgunclub.com/wp-content/uploads/PSBowlingpin-shooting_TV.webp
END:VEVENT
BEGIN:VEVENT
DTSTART;TZID=UTC:20271209T183000
DTEND;TZID=UTC:20271209T200000
DTSTAMP:20260420T042603
CREATED:20251231T213242Z
LAST-MODIFIED:20260120T173841Z
UID:10000644-1828377000-1828382400@governorsgunclub.com
SUMMARY:Bowling Pin Shoot
DESCRIPTION:Cost is $25 for non-members\, $10 for GGC Shooter or Platoon members\, and FREE from FMJ and High Brass Members. 22LR handguns only (we have some to rent if you don’t own one) Contact rburley@governorsgunclub.com if you have any questions!
URL:https://governorsgunclub.com/events/bowling-pin-shoot/2027-12-09/
LOCATION:Governors Gun Club Powder Springs\, 5740 C.H. James Parkway\, Powder Springs\, GA\, 30127\, United States
CATEGORIES:Handgun,Public
ATTACH;FMTTYPE=image/webp:https://governorsgunclub.com/wp-content/uploads/PSBowlingpin-shooting_TV.webp
END:VEVENT
BEGIN:VEVENT
DTSTART;TZID=UTC:20271216T183000
DTEND;TZID=UTC:20271216T200000
DTSTAMP:20260420T042603
CREATED:20251231T213242Z
LAST-MODIFIED:20260120T173841Z
UID:10000645-1828981800-1828987200@governorsgunclub.com
SUMMARY:Bowling Pin Shoot
DESCRIPTION:Cost is $25 for non-members\, $10 for GGC Shooter or Platoon members\, and FREE from FMJ and High Brass Members. 22LR handguns only (we have some to rent if you don’t own one) Contact rburley@governorsgunclub.com if you have any questions!
URL:https://governorsgunclub.com/events/bowling-pin-shoot/2027-12-16/
LOCATION:Governors Gun Club Powder Springs\, 5740 C.H. James Parkway\, Powder Springs\, GA\, 30127\, United States
CATEGORIES:Handgun,Public
ATTACH;FMTTYPE=image/webp:https://governorsgunclub.com/wp-content/uploads/PSBowlingpin-shooting_TV.webp
END:VEVENT
BEGIN:VEVENT
DTSTART;TZID=UTC:20271223T183000
DTEND;TZID=UTC:20271223T200000
DTSTAMP:20260420T042603
CREATED:20251231T213242Z
LAST-MODIFIED:20260120T173841Z
UID:10000646-1829586600-1829592000@governorsgunclub.com
SUMMARY:Bowling Pin Shoot
DESCRIPTION:Cost is $25 for non-members\, $10 for GGC Shooter or Platoon members\, and FREE from FMJ and High Brass Members. 22LR handguns only (we have some to rent if you don’t own one) Contact rburley@governorsgunclub.com if you have any questions!
URL:https://governorsgunclub.com/events/bowling-pin-shoot/2027-12-23/
LOCATION:Governors Gun Club Powder Springs\, 5740 C.H. James Parkway\, Powder Springs\, GA\, 30127\, United States
CATEGORIES:Handgun,Public
ATTACH;FMTTYPE=image/webp:https://governorsgunclub.com/wp-content/uploads/PSBowlingpin-shooting_TV.webp
END:VEVENT
BEGIN:VEVENT
DTSTART;TZID=UTC:20271230T183000
DTEND;TZID=UTC:20271230T200000
DTSTAMP:20260420T042603
CREATED:20251231T213242Z
LAST-MODIFIED:20260120T173841Z
UID:10000647-1830191400-1830196800@governorsgunclub.com
SUMMARY:Bowling Pin Shoot
DESCRIPTION:Cost is $25 for non-members\, $10 for GGC Shooter or Platoon members\, and FREE from FMJ and High Brass Members. 22LR handguns only (we have some to rent if you don’t own one) Contact rburley@governorsgunclub.com if you have any questions!
URL:https://governorsgunclub.com/events/bowling-pin-shoot/2027-12-30/
LOCATION:Governors Gun Club Powder Springs\, 5740 C.H. James Parkway\, Powder Springs\, GA\, 30127\, United States
CATEGORIES:Handgun,Public
ATTACH;FMTTYPE=image/webp:https://governorsgunclub.com/wp-content/uploads/PSBowlingpin-shooting_TV.webp
END:VEVENT
BEGIN:VEVENT
DTSTART;TZID=UTC:20280106T183000
DTEND;TZID=UTC:20280106T200000
DTSTAMP:20260420T042603
CREATED:20251231T213242Z
LAST-MODIFIED:20260120T173841Z
UID:10000648-1830796200-1830801600@governorsgunclub.com
SUMMARY:Bowling Pin Shoot
DESCRIPTION:Cost is $25 for non-members\, $10 for GGC Shooter or Platoon members\, and FREE from FMJ and High Brass Members. 22LR handguns only (we have some to rent if you don’t own one) Contact rburley@governorsgunclub.com if you have any questions!
URL:https://governorsgunclub.com/events/bowling-pin-shoot/2028-01-06/
LOCATION:Governors Gun Club Powder Springs\, 5740 C.H. James Parkway\, Powder Springs\, GA\, 30127\, United States
CATEGORIES:Handgun,Public
ATTACH;FMTTYPE=image/webp:https://governorsgunclub.com/wp-content/uploads/PSBowlingpin-shooting_TV.webp
END:VEVENT
BEGIN:VEVENT
DTSTART;TZID=UTC:20280113T183000
DTEND;TZID=UTC:20280113T200000
DTSTAMP:20260420T042603
CREATED:20251231T213242Z
LAST-MODIFIED:20260120T173841Z
UID:10000649-1831401000-1831406400@governorsgunclub.com
SUMMARY:Bowling Pin Shoot
DESCRIPTION:Cost is $25 for non-members\, $10 for GGC Shooter or Platoon members\, and FREE from FMJ and High Brass Members. 22LR handguns only (we have some to rent if you don’t own one) Contact rburley@governorsgunclub.com if you have any questions!
URL:https://governorsgunclub.com/events/bowling-pin-shoot/2028-01-13/
LOCATION:Governors Gun Club Powder Springs\, 5740 C.H. James Parkway\, Powder Springs\, GA\, 30127\, United States
CATEGORIES:Handgun,Public
ATTACH;FMTTYPE=image/webp:https://governorsgunclub.com/wp-content/uploads/PSBowlingpin-shooting_TV.webp
END:VEVENT
BEGIN:VEVENT
DTSTART;TZID=UTC:20280120T183000
DTEND;TZID=UTC:20280120T200000
DTSTAMP:20260420T042603
CREATED:20251231T213242Z
LAST-MODIFIED:20260120T173841Z
UID:10000650-1832005800-1832011200@governorsgunclub.com
SUMMARY:Bowling Pin Shoot
DESCRIPTION:Cost is $25 for non-members\, $10 for GGC Shooter or Platoon members\, and FREE from FMJ and High Brass Members. 22LR handguns only (we have some to rent if you don’t own one) Contact rburley@governorsgunclub.com if you have any questions!
URL:https://governorsgunclub.com/events/bowling-pin-shoot/2028-01-20/
LOCATION:Governors Gun Club Powder Springs\, 5740 C.H. James Parkway\, Powder Springs\, GA\, 30127\, United States
CATEGORIES:Handgun,Public
ATTACH;FMTTYPE=image/webp:https://governorsgunclub.com/wp-content/uploads/PSBowlingpin-shooting_TV.webp
END:VEVENT
BEGIN:VEVENT
DTSTART;TZID=UTC:20280127T183000
DTEND;TZID=UTC:20280127T200000
DTSTAMP:20260420T042603
CREATED:20251231T213242Z
LAST-MODIFIED:20260120T173841Z
UID:10000651-1832610600-1832616000@governorsgunclub.com
SUMMARY:Bowling Pin Shoot
DESCRIPTION:Cost is $25 for non-members\, $10 for GGC Shooter or Platoon members\, and FREE from FMJ and High Brass Members. 22LR handguns only (we have some to rent if you don’t own one) Contact rburley@governorsgunclub.com if you have any questions!
URL:https://governorsgunclub.com/events/bowling-pin-shoot/2028-01-27/
LOCATION:Governors Gun Club Powder Springs\, 5740 C.H. James Parkway\, Powder Springs\, GA\, 30127\, United States
CATEGORIES:Handgun,Public
ATTACH;FMTTYPE=image/webp:https://governorsgunclub.com/wp-content/uploads/PSBowlingpin-shooting_TV.webp
END:VEVENT
BEGIN:VEVENT
DTSTART;TZID=UTC:20280203T183000
DTEND;TZID=UTC:20280203T200000
DTSTAMP:20260420T042603
CREATED:20251231T213242Z
LAST-MODIFIED:20260120T173841Z
UID:10000652-1833215400-1833220800@governorsgunclub.com
SUMMARY:Bowling Pin Shoot
DESCRIPTION:Cost is $25 for non-members\, $10 for GGC Shooter or Platoon members\, and FREE from FMJ and High Brass Members. 22LR handguns only (we have some to rent if you don’t own one) Contact rburley@governorsgunclub.com if you have any questions!
URL:https://governorsgunclub.com/events/bowling-pin-shoot/2028-02-03/
LOCATION:Governors Gun Club Powder Springs\, 5740 C.H. James Parkway\, Powder Springs\, GA\, 30127\, United States
CATEGORIES:Handgun,Public
ATTACH;FMTTYPE=image/webp:https://governorsgunclub.com/wp-content/uploads/PSBowlingpin-shooting_TV.webp
END:VEVENT
BEGIN:VEVENT
DTSTART;TZID=UTC:20280210T183000
DTEND;TZID=UTC:20280210T200000
DTSTAMP:20260420T042603
CREATED:20251231T213242Z
LAST-MODIFIED:20260120T173841Z
UID:10000653-1833820200-1833825600@governorsgunclub.com
SUMMARY:Bowling Pin Shoot
DESCRIPTION:Cost is $25 for non-members\, $10 for GGC Shooter or Platoon members\, and FREE from FMJ and High Brass Members. 22LR handguns only (we have some to rent if you don’t own one) Contact rburley@governorsgunclub.com if you have any questions!
URL:https://governorsgunclub.com/events/bowling-pin-shoot/2028-02-10/
LOCATION:Governors Gun Club Powder Springs\, 5740 C.H. James Parkway\, Powder Springs\, GA\, 30127\, United States
CATEGORIES:Handgun,Public
ATTACH;FMTTYPE=image/webp:https://governorsgunclub.com/wp-content/uploads/PSBowlingpin-shooting_TV.webp
END:VEVENT
BEGIN:VEVENT
DTSTART;TZID=UTC:20280217T183000
DTEND;TZID=UTC:20280217T200000
DTSTAMP:20260420T042603
CREATED:20251231T213242Z
LAST-MODIFIED:20260120T173841Z
UID:10000654-1834425000-1834430400@governorsgunclub.com
SUMMARY:Bowling Pin Shoot
DESCRIPTION:Cost is $25 for non-members\, $10 for GGC Shooter or Platoon members\, and FREE from FMJ and High Brass Members. 22LR handguns only (we have some to rent if you don’t own one) Contact rburley@governorsgunclub.com if you have any questions!
URL:https://governorsgunclub.com/events/bowling-pin-shoot/2028-02-17/
LOCATION:Governors Gun Club Powder Springs\, 5740 C.H. James Parkway\, Powder Springs\, GA\, 30127\, United States
CATEGORIES:Handgun,Public
ATTACH;FMTTYPE=image/webp:https://governorsgunclub.com/wp-content/uploads/PSBowlingpin-shooting_TV.webp
END:VEVENT
BEGIN:VEVENT
DTSTART;TZID=UTC:20280224T183000
DTEND;TZID=UTC:20280224T200000
DTSTAMP:20260420T042603
CREATED:20251231T213242Z
LAST-MODIFIED:20260120T173841Z
UID:10000655-1835029800-1835035200@governorsgunclub.com
SUMMARY:Bowling Pin Shoot
DESCRIPTION:Cost is $25 for non-members\, $10 for GGC Shooter or Platoon members\, and FREE from FMJ and High Brass Members. 22LR handguns only (we have some to rent if you don’t own one) Contact rburley@governorsgunclub.com if you have any questions!
URL:https://governorsgunclub.com/events/bowling-pin-shoot/2028-02-24/
LOCATION:Governors Gun Club Powder Springs\, 5740 C.H. James Parkway\, Powder Springs\, GA\, 30127\, United States
CATEGORIES:Handgun,Public
ATTACH;FMTTYPE=image/webp:https://governorsgunclub.com/wp-content/uploads/PSBowlingpin-shooting_TV.webp
END:VEVENT
BEGIN:VEVENT
DTSTART;TZID=UTC:20280302T183000
DTEND;TZID=UTC:20280302T200000
DTSTAMP:20260420T042603
CREATED:20251231T213242Z
LAST-MODIFIED:20260120T173841Z
UID:10000656-1835634600-1835640000@governorsgunclub.com
SUMMARY:Bowling Pin Shoot
DESCRIPTION:Cost is $25 for non-members\, $10 for GGC Shooter or Platoon members\, and FREE from FMJ and High Brass Members. 22LR handguns only (we have some to rent if you don’t own one) Contact rburley@governorsgunclub.com if you have any questions!
URL:https://governorsgunclub.com/events/bowling-pin-shoot/2028-03-02/
LOCATION:Governors Gun Club Powder Springs\, 5740 C.H. James Parkway\, Powder Springs\, GA\, 30127\, United States
CATEGORIES:Handgun,Public
ATTACH;FMTTYPE=image/webp:https://governorsgunclub.com/wp-content/uploads/PSBowlingpin-shooting_TV.webp
END:VEVENT
BEGIN:VEVENT
DTSTART;TZID=UTC:20280309T183000
DTEND;TZID=UTC:20280309T200000
DTSTAMP:20260420T042603
CREATED:20251231T213242Z
LAST-MODIFIED:20260120T173841Z
UID:10000657-1836239400-1836244800@governorsgunclub.com
SUMMARY:Bowling Pin Shoot
DESCRIPTION:Cost is $25 for non-members\, $10 for GGC Shooter or Platoon members\, and FREE from FMJ and High Brass Members. 22LR handguns only (we have some to rent if you don’t own one) Contact rburley@governorsgunclub.com if you have any questions!
URL:https://governorsgunclub.com/events/bowling-pin-shoot/2028-03-09/
LOCATION:Governors Gun Club Powder Springs\, 5740 C.H. James Parkway\, Powder Springs\, GA\, 30127\, United States
CATEGORIES:Handgun,Public
ATTACH;FMTTYPE=image/webp:https://governorsgunclub.com/wp-content/uploads/PSBowlingpin-shooting_TV.webp
END:VEVENT
BEGIN:VEVENT
DTSTART;TZID=UTC:20280316T183000
DTEND;TZID=UTC:20280316T200000
DTSTAMP:20260420T042603
CREATED:20251231T213242Z
LAST-MODIFIED:20260120T173841Z
UID:10000658-1836844200-1836849600@governorsgunclub.com
SUMMARY:Bowling Pin Shoot
DESCRIPTION:Cost is $25 for non-members\, $10 for GGC Shooter or Platoon members\, and FREE from FMJ and High Brass Members. 22LR handguns only (we have some to rent if you don’t own one) Contact rburley@governorsgunclub.com if you have any questions!
URL:https://governorsgunclub.com/events/bowling-pin-shoot/2028-03-16/
LOCATION:Governors Gun Club Powder Springs\, 5740 C.H. James Parkway\, Powder Springs\, GA\, 30127\, United States
CATEGORIES:Handgun,Public
ATTACH;FMTTYPE=image/webp:https://governorsgunclub.com/wp-content/uploads/PSBowlingpin-shooting_TV.webp
END:VEVENT
END:VCALENDAR